BEGIN:VCALENDAR
VERSION:2.0
PRODID:-//ChamberMaster//Event Calendar 2.0//EN
METHOD:PUBLISH
X-PUBLISHED-TTL:P3D
REFRESH-INTERVAL:P3D
CALSCALE:GREGORIAN
BEGIN:VEVENT
DTSTART:20200123T170000Z
DTEND:20200123T190000Z
X-MICROSOFT-CDO-ALLDAYEVENT:FALSE
SUMMARY:Zvago Stillwater Informational Lunch
DESCRIPTION:Join us for an informational lunch highlighting Zvago Stillwater\, a unique and desirable cooperative living community for ages 62* and better. With Minnesota's winter wonderland upon us\, and the prospect of record-setting cold and snow\, now is the time to discover the joys of maintenance-free living\, including no snow removal. It's a lifestyle of flexibility and freedom\, in an environment where like-minded people become a true community. Secure your home today and enjoy all of the benefits Zvago Cooperative Living has to offer.\n\nLight lunch and refreshments will be served. Attend this event and be entered to win a Stillwater River Boats dinner cruise.\n\nRSVP Today! Call [952] 206-2006\n\n \n\nZvago Stillwater offers a neighborhood setting close to entertainment\, dining\, shopping\, outdoor recreation and more. The community also features maintenance-free living surrounded by the amenities\, comforts and conveniences suited to your lifestyle   all at a cost of ownership lower than many condominiums or townhomes.\n\n*At least one occupant must be 62
X-ALT-DESC;FMTTYPE=text/html:<p style="text-align:center">Join us for an informational lunch highlighting Zvago Stillwater\, a unique and desirable cooperative living community for ages 62* and better. With Minnesota&rsquo\;s winter wonderland upon us\, and the prospect of record-setting cold and snow\, now is the time to discover the joys of maintenance-free living\, including no snow removal. It&rsquo\;s a lifestyle of flexibility and freedom\, in an environment where like-minded people become a true community. Secure your home today and enjoy all of the benefits Zvago Cooperative Living has to offer.</p>\n\n<p style="text-align:center"><em>Light lunch and refreshments will be served. Attend this event and be entered to win a Stillwater River Boats dinner cruise.</em></p>\n\n<p style="text-align:center"><strong>RSVP Today! Call [952] 206-2006</strong></p>\n\n<p>&nbsp\;</p>\n\n<p>Zvago Stillwater offers a neighborhood setting close to entertainment\, dining\, shopping\, outdoor recreation and more. The community also features maintenance-free living surrounded by the amenities\, comforts and conveniences suited to your lifestyle &mdash\; all at a cost of ownership lower than many condominiums or townhomes.</p>\n\n<p><em>*At least one occupant must be 62</em></p>\n
LOCATION:
UID:e.257.30387
SEQUENCE:3
DTSTAMP:20260422T043453Z
URL:https://greaterstillwaterchamber.com/events/details/zvago-stillwater-informational-lunch-01-23-2020-30387
END:VEVENT

END:VCALENDAR
