BEGIN:VCALENDAR
VERSION:2.0
PRODID:-//ChamberMaster//Event Calendar 2.0//EN
METHOD:PUBLISH
X-PUBLISHED-TTL:P3D
REFRESH-INTERVAL:P3D
CALSCALE:GREGORIAN
BEGIN:VEVENT
DTSTART:20240814T140000Z
DTEND:20240814T193000Z
X-MICROSOFT-CDO-ALLDAYEVENT:FALSE
SUMMARY:You R You One-Day Retreat
DESCRIPTION:United Way of Washington County-East and Hidden Pines Ranch have teamed up to bring you\, You R You! A one-day retreat aimed at empowering girls and those who identify as female entering into 6th grade to foster positive self-image and relationships through interactive activities and small group discussions. Lunch\, crafts\, goodie bags\, friendship\, and FUN await them at Hidden Pines Ranch. Register today as it's expected to fill up fast!
X-ALT-DESC;FMTTYPE=text/html:United Way of Washington County-East and Hidden Pines Ranch have teamed up to bring you\, You R You! A one-day retreat aimed at empowering girls and those who identify as female entering into 6th grade to foster positive self-image and relationships through interactive activities and small group discussions. Lunch\, crafts\, goodie bags\, friendship\, and FUN await them at Hidden Pines Ranch. Register today as it&rsquo\;s expected to fill up fast!
LOCATION:Hidden Pines Ranch 10670 75th Street North Stillwater\, MN 55082
UID:e.257.38616
SEQUENCE:3
DTSTAMP:20260422T185248Z
URL:https://greaterstillwaterchamber.com/events/details/you-r-you-one-day-retreat-38616
END:VEVENT

END:VCALENDAR
