BEGIN:VCALENDAR
VERSION:2.0
PRODID:-//ChamberMaster//Event Calendar 2.0//EN
METHOD:PUBLISH
X-PUBLISHED-TTL:P3D
REFRESH-INTERVAL:P3D
CALSCALE:GREGORIAN
BEGIN:VEVENT
DTSTART:20240626T210000Z
DTEND:20240626T230000Z
X-MICROSOFT-CDO-ALLDAYEVENT:FALSE
SUMMARY:WPSL Legacy vs. Mankato United (Women's Soccer)
DESCRIPTION:Come cheer on your local women's amateur soccer team\, the St. Croix Legacy\, as they take on Mankato United! Halftime contest\, concessions\, apparel sales\, and more fun to be had! \n\nSt. Croix Players with jersey get in FREE!
X-ALT-DESC;FMTTYPE=text/html:Come cheer on your local women&#39\;s amateur soccer team\, the St. Croix Legacy\, as they take on Mankato United! Halftime contest\, concessions\, apparel sales\, and more fun to be had!&nbsp\;<br />\nSt. Croix Players with jersey get in FREE!
LOCATION:Pony Stadium: 5701 Stillwater Blvd\, Stillwater\, MN 55082
UID:e.257.37797
SEQUENCE:3
DTSTAMP:20260422T163633Z
URL:https://greaterstillwaterchamber.com/events/details/wpsl-legacy-vs-mankato-united-women-s-soccer-37797
END:VEVENT

END:VCALENDAR
