BEGIN:VCALENDAR
VERSION:2.0
PRODID:-//ChamberMaster//Event Calendar 2.0//EN
METHOD:PUBLISH
X-PUBLISHED-TTL:P3D
REFRESH-INTERVAL:P3D
CALSCALE:GREGORIAN
BEGIN:VEVENT
DTSTART:20200402T170000Z
DTEND:20200402T180000Z
X-MICROSOFT-CDO-ALLDAYEVENT:FALSE
SUMMARY:Working from Home: How to Have a Happy\, Healthy and Productive Virtual Office
DESCRIPTION:Amy Jauman\, Chief Learning Officer at the National Institute for Social Media\, a seasoned freelance consultant\, and professor\, will share with you the best practices for being productive (and happy!) working from home.
X-ALT-DESC;FMTTYPE=text/html:Amy Jauman\, Chief Learning Officer at the National Institute for Social Media\, a seasoned freelance consultant\, and professor\, will share with you the best practices for being productive (and happy!) working from home.
LOCATION:Virtual Lunch Series
UID:e.257.30715
SEQUENCE:3
DTSTAMP:20260422T043644Z
URL:https://greaterstillwaterchamber.com/events/details/working-from-home-how-to-have-a-happy-healthy-and-productive-virtual-office-30715
END:VEVENT

END:VCALENDAR
