BEGIN:VCALENDAR
VERSION:2.0
PRODID:-//ChamberMaster//Event Calendar 2.0//EN
METHOD:PUBLISH
X-PUBLISHED-TTL:P3D
REFRESH-INTERVAL:P3D
CALSCALE:GREGORIAN
BEGIN:VEVENT
DTSTART:20240127T070000Z
DTEND:20240127T213000Z
X-MICROSOFT-CDO-ALLDAYEVENT:FALSE
SUMMARY:Winemaker's Barrel Sampling + Tour Experience
DESCRIPTION:Join us for this one-time-a-year exclusive experience with our winemaker\, Matt Scott!\nBecome a vintner for the day as you are guided along on the journey to making award winning wine! You'll learn about the artistry and chemistry that goes into every vintage and how science enhances the art of winemaking! Your senses will be fully engaged as you smell\, taste and feel like a winemaker on this 7 Vines adventure with Matt! \n\n \n\nTicket includes: \n\nA tour with our winemaker in the Cove\n\nBarrel Samples of 2 red wines from the cask\n\nCurrent vintage tastings\n\nSmall-bite pairing\n\nReservation in the Wine Bar following the Tour
X-ALT-DESC;FMTTYPE=text/html:<span style="font-size:14px"><strong>Join us for this one-time-a-year exclusive experience with our winemaker\, Matt Scott!</strong></span>\n<p><span style="color:#242424">Become a vintner for the day as you are guided along on the journey to making award winning wine! You&#39\;ll learn about the artistry and chemistry that goes into every vintage and how science enhances the art of winemaking! Your senses will be fully engaged as you smell\, taste and feel like a winemaker on this 7 Vines adventure with Matt!&nbsp\;</span></p>\n\n<p><span style="color:#242424">&nbsp\;</span></p>\n\n<p><u><span style="color:#242424">Ticket includes:&nbsp\;</span></u></p>\n\n<p><span style="color:#242424">A tour with our winemaker in the Cove</span></p>\n\n<p><span style="color:#242424">Barrel Samples of 2 red wines from the cask</span></p>\n\n<p><span style="color:#242424">Current vintage tastings</span></p>\n\n<p><span style="color:#242424">Small-bite pairing</span></p>\n\n<p><span style="color:#242424">Reservation in the Wine Bar following the Tour</span></p>\n
LOCATION:7 Vines Vineyard and Winery 101 Hwy 96 East Dellwood\, MN 55110
UID:e.257.37107
SEQUENCE:3
DTSTAMP:20260422T020434Z
URL:https://greaterstillwaterchamber.com/events/details/winemaker-s-barrel-sampling-tour-experience-01-27-2024-37107
END:VEVENT

END:VCALENDAR
