BEGIN:VCALENDAR
VERSION:2.0
PRODID:-//ChamberMaster//Event Calendar 2.0//EN
METHOD:PUBLISH
X-PUBLISHED-TTL:P3D
REFRESH-INTERVAL:P3D
CALSCALE:GREGORIAN
BEGIN:VEVENT
DTSTART:20240511T180000Z
DTEND:20240511T200000Z
X-MICROSOFT-CDO-ALLDAYEVENT:FALSE
SUMMARY:Wine & Chocolate--- YES!
DESCRIPTION:Wine & Chocolate --- YES!\n\nJoin us for a Wine & Chocolate Tasting Class Saturday May 11. \n\n1pm or 3pm\n\nIn this 1 hour tasting experience\, you will indulge in a guided tasting of 4 award winning wines paired with chocolates for a palate-pleasing experience! Wine and chocolate --- what's not to love? The chocolatier will be on hand to share the journey of the chocolates\, as well. \n\n\n\nA not to be missed Mother's Day WEEK Event!
X-ALT-DESC;FMTTYPE=text/html:<p><strong><span style="font-family:tahoma"><span style="font-size:14px">Wine &amp\; Chocolate --- YES!</span></span></strong><br />\nJoin us for a Wine &amp\; Chocolate Tasting Class<strong> Saturday May 11.&nbsp\;</strong><br />\n1pm or 3pm<br />\nIn this 1 hour tasting experience\, you will indulge in a guided tasting of 4 award winning wines paired with chocolates for a palate-pleasing experience! Wine and chocolate --- what&#39\;s not to love? The chocolatier will be on hand to share the journey of the chocolates\, as well.&nbsp\;<br />\n<br />\nA not to be missed Mother&#39\;s Day WEEK Event!&nbsp\;</p>\n\n<p>&nbsp\;</p>\n
LOCATION:7 Vines Vineyard 101 Hwy 96 E Dellwood\, MN 55110
UID:e.257.37199
SEQUENCE:3
DTSTAMP:20260422T144434Z
URL:https://greaterstillwaterchamber.com/events/details/wine-chocolate-yes-37199
END:VEVENT

END:VCALENDAR
