BEGIN:VCALENDAR
VERSION:2.0
PRODID:-//ChamberMaster//Event Calendar 2.0//EN
METHOD:PUBLISH
X-PUBLISHED-TTL:P3D
REFRESH-INTERVAL:P3D
CALSCALE:GREGORIAN
BEGIN:VEVENT
DTSTART;VALUE=DATE:20240801
DTEND;VALUE=DATE:20240808
TRANSP:TRANSPARENT
X-MICROSOFT-CDO-ALLDAYEVENT:TRUE
SUMMARY:What's That Plant? Event
DESCRIPTION:Welcome to the "What's That Plant?" event\, a delightful exploration of the botanical wonders along Brown's Creek Trail! This event offers a unique opportunity for individuals and families to immerse themselves in the natural world while discovering the diverse array of plants that adorn the trail. Whether you're intrigued by the vibrant hues of pink flowers or the allure of red berries\, this event invites you to satisfy your curiosity and deepen your understanding of the local flora. No prior registration is required simply stop by at your leisure and embark on a journey of discovery. Throughout the first week of each month\, plant signage will be strategically placed along the trail\, guiding you through an educational and enriching experience. As you wander along the trail\, you'll have the chance to learn about the vital role that diverse plant life plays in supporting ecosystems and enhancing biodiversity. From attracting pollinators like bees and butterflies to providing habitat for various species\, each plant tells a story of its own. Whether you're a seasoned botanist or a curious nature enthusiast\, this event offers something for everyone. Take advantage of this opportunity to sharpen your plant identification skills\, explore the wonders of the natural world\, and foster a deeper connection with the environment.
X-ALT-DESC;FMTTYPE=text/html:Welcome to the &quot\;What&#39\;s That Plant?&quot\; event\, a delightful exploration of the botanical wonders along Brown&#39\;s Creek Trail! This event offers a unique opportunity for individuals and families to immerse themselves in the natural world while discovering the diverse array of plants that adorn the trail. Whether you&#39\;re intrigued by the vibrant hues of pink flowers or the allure of red berries\, this event invites you to satisfy your curiosity and deepen your understanding of the local flora. No prior registration is required&mdash\;simply stop by at your leisure and embark on a journey of discovery. Throughout the first week of each month\, plant signage will be strategically placed along the trail\, guiding you through an educational and enriching experience. As you wander along the trail\, you&#39\;ll have the chance to learn about the vital role that diverse plant life plays in supporting ecosystems and enhancing biodiversity. From attracting pollinators like bees and butterflies to providing habitat for various species\, each plant tells a story of its own. Whether you&#39\;re a seasoned botanist or a curious nature enthusiast\, this event offers something for everyone. Take advantage of this opportunity to sharpen your plant identification skills\, explore the wonders of the natural world\, and foster a deeper connection with the environment.
LOCATION:Browns Creek Trail starting at the park\, 8312 Neal Ave N\, Stillwater\, MN 55082\, USA
UID:e.257.37183
SEQUENCE:3
DTSTAMP:20260422T184717Z
URL:https://greaterstillwaterchamber.com/events/details/what-s-that-plant-event-08-01-2024-37183
END:VEVENT

END:VCALENDAR
