BEGIN:VCALENDAR
VERSION:2.0
PRODID:-//ChamberMaster//Event Calendar 2.0//EN
METHOD:PUBLISH
X-PUBLISHED-TTL:P3D
REFRESH-INTERVAL:P3D
CALSCALE:GREGORIAN
BEGIN:VEVENT
DTSTART:20200410T170000Z
DTEND:20200410T180000Z
X-MICROSOFT-CDO-ALLDAYEVENT:FALSE
SUMMARY:What's For Dinner?: Getting Creative with What's In Your Pantry
DESCRIPTION:A (virtual) lunch series featuring the Twin Cities top leaders!\n\n\nGourmet chef Amalia Moreno-Damgaard will teach you how to turn your pantry staples into your new favorite dinner.\n\n \nTake your lunch hour to learn more about adding positivity and growth into your new normal. Tickets for each luncheon are only $10 per viewer. All proceeds from this event will go to Children's Hospital Association's continuous support of integral\, innovative programs at Children's Minnesota.
X-ALT-DESC;FMTTYPE=text/html:<h2><span style="color:rgb(1\, 32\, 105)"><span style="font-family:trebuchet ms\,helvetica\,sans-serif">A (virtual) lunch series featuring the Twin Cities top leaders!</span></span></h2>\n<br />\n<span style="font-size:18px"><span style="font-family:trebuchet ms\,helvetica\,sans-serif">Gourmet chef Amalia Moreno-Damgaard will teach you how to turn your pantry staples into your new favorite dinner.</span></span><br />\n&nbsp\;\n<div><span style="font-size:18px">Take your lunch hour&nbsp\;to learn more about adding positivity and growth into your new normal.&nbsp\;</span><span style="font-size:18px">Tickets for each luncheon&nbsp\;are only $10 per viewer. </span><span style="color:rgb(0\, 156\, 222)\; font-size:18px"><strong>All proceeds from this event will go to Children&#39\;s Hospital Association&#39\;s continuous support of integral\, innovative programs at Children&#39\;s Minnesota.</strong></span></div>\n
LOCATION:Webinar
UID:e.257.30716
SEQUENCE:3
DTSTAMP:20260422T024749Z
URL:https://greaterstillwaterchamber.com/events/details/what-s-for-dinner-getting-creative-with-what-s-in-your-pantry-30716
END:VEVENT

END:VCALENDAR
