BEGIN:VCALENDAR
VERSION:2.0
PRODID:-//ChamberMaster//Event Calendar 2.0//EN
METHOD:PUBLISH
X-PUBLISHED-TTL:P3D
REFRESH-INTERVAL:P3D
CALSCALE:GREGORIAN
BEGIN:VEVENT
DTSTART:20200115T220000Z
DTEND:20200115T230000Z
X-MICROSOFT-CDO-ALLDAYEVENT:FALSE
SUMMARY:weMeet B2B Kick-Off/Informational Meeting
DESCRIPTION:Join us for an information meeting/kick-off to the new Chamber group weMeet B2B!\n\nBusiness to Business\, also called B2B\, refers to business that is conducted between companies\, rather than between a company and individual consumers. The mission of weMeet B2B is to provide a meeting structure and environment where Greater Stillwater Chamber of Commerce Members can promote Business to Business products and services to local businesses within the greater Stillwater area.
X-ALT-DESC;FMTTYPE=text/html:<p><font color="#000000" face="arial"><span style="font-size: 14px\;"><span style="font-size:20px\;"><strong>Join us for an information meeting/kick-off to the new Chamber group weMeet B2B!</strong></span><br />\nBusiness to Business\, also called B2B\, refers to business that is conducted&nbsp\;between companies\, rather than between a company and individual consumers. The mission of weMeet B2B is to provide&nbsp\;a meeting structure and environment where Greater Stillwater Chamber&nbsp\;of Commerce Members&nbsp\;can promote Business to Business products and services to local businesses within the greater Stillwater area.&nbsp\;</span></font><br />\n<br />\n<br />\n&nbsp\;</p>\n
LOCATION:Water Street Inn Boardroom A 101 South Water Street Stillwater\, MN 55082
UID:e.257.30388
SEQUENCE:3
DTSTAMP:20260422T043454Z
URL:https://greaterstillwaterchamber.com/events/details/wemeet-b2b-kick-off-informational-meeting-30388
END:VEVENT

END:VCALENDAR
