BEGIN:VCALENDAR
VERSION:2.0
PRODID:-//ChamberMaster//Event Calendar 2.0//EN
METHOD:PUBLISH
X-PUBLISHED-TTL:P3D
REFRESH-INTERVAL:P3D
CALSCALE:GREGORIAN
BEGIN:VEVENT
DTSTART:20231014T180000Z
DTEND:20231014T200000Z
X-MICROSOFT-CDO-ALLDAYEVENT:FALSE
SUMMARY:Watercolor Holiday Class
DESCRIPTION:Stop in and watch our talented local Artisan (Smith) Chris Hansen from Dotplaid teach a basic watercolor class. Attendees will be making holiday Christmas cards.
X-ALT-DESC;FMTTYPE=text/html:Stop in and watch our talented local Artisan (Smith) Chris Hansen from Dotplaid teach a basic watercolor class. Attendees will be making holiday Christmas cards.
LOCATION:Smith + Trade Mercantile 229 Main St. S. Stillwater\, MN
UID:e.257.36615
SEQUENCE:3
DTSTAMP:20260423T040914Z
URL:https://greaterstillwaterchamber.com/events/details/watercolor-holiday-class-36615
END:VEVENT

END:VCALENDAR
