BEGIN:VCALENDAR
VERSION:2.0
PRODID:-//ChamberMaster//Event Calendar 2.0//EN
METHOD:PUBLISH
X-PUBLISHED-TTL:P3D
REFRESH-INTERVAL:P3D
CALSCALE:GREGORIAN
BEGIN:VEVENT
DTSTART:20200330T130000Z
DTEND:20200330T163000Z
X-MICROSOFT-CDO-ALLDAYEVENT:FALSE
SUMMARY:Volunteers Needed for Full-Scale Exercise
DESCRIPTION:Interested in school safety? Help us test our systems!\n\nStillwater Area Public Schools has been working hard to design a process to reunify students with their parents/guardians in the event a large-scale emergency ever occurs.\n\nOn Monday\, March 30\, 2020 we will practice and test this system and we need your help. We are seeking up to 150 volunteers to play the role of both parents and students. There's no preparation or special skills required. We just need people willing to show up and follow a few simple instructions! Physical requirements include having to stand for approximately 30 minutes and walk the length of the St. Croix Valley Rec Center a few times. Adults will need transportation between Stillwater Area High School and the Rec Center.\n\nVolunteers would need to be available from 8:00 to 11:30 a.m. on March 30. If you and/or other members of you know are interested in volunteering for this event\, please click here to register.
X-ALT-DESC;FMTTYPE=text/html:<p><strong>Interested in school safety? Help us test our systems!</strong></p>\n\n<p><span style="background-color:transparent\; color:rgb(34\, 34\, 34)\; font-family:calibri\,sans-serif\; font-size:12pt">Stillwater Area Public Schools has been working hard to design a process to reunify students with their parents/guardians in the event a large-scale emergency ever occurs.</span></p>\n\n<p><span style="background-color:transparent\; color:rgb(34\, 34\, 34)\; font-family:calibri\,sans-serif\; font-size:12pt">On Monday\, March 30\, 2020 we will practice and test this system and we need your help. We are seeking up to 150 volunteers to play the role of both parents and students. There&rsquo\;s no preparation or special skills required. We just need people willing to show up and follow a few simple instructions! Physical requirements include having to stand for approximately 30 minutes and walk the length of the St. Croix Valley Rec Center a few times. Adults will need transportation between Stillwater Area High School and the Rec Center.</span></p>\n\n<p><span style="background-color:transparent\; color:rgb(34\, 34\, 34)\; font-family:calibri\,sans-serif\; font-size:12pt">Volunteers would need to be available from 8:00 to 11:30 a.m. on March 30. If you and/or other members of you know are interested in volunteering for this event\, please<a href="https://jkmecik.wufoo.com/forms/z1h9trb11hjbc33/" style="color: rgb(17\, 85\, 204)\;" target="_blank"> </a></span><strong><a href="https://jkmecik.wufoo.com/forms/z1h9trb11hjbc33/" style="color: rgb(17\, 85\, 204)\;" target="_blank">click here</a></strong><span style="background-color:transparent\; color:rgb(34\, 34\, 34)\; font-family:calibri\,sans-serif\; font-size:12pt"><a href="https://jkmecik.wufoo.com/forms/z1h9trb11hjbc33/" style="color: rgb(17\, 85\, 204)\;" target="_blank"> </a>to register.&nbsp\;&nbsp\;</span></p>\n
LOCATION:Stillwater Area High School
UID:e.257.30701
SEQUENCE:3
DTSTAMP:20260422T005947Z
URL:https://greaterstillwaterchamber.com/events/details/volunteers-needed-for-full-scale-exercise-30701
END:VEVENT

END:VCALENDAR
