BEGIN:VCALENDAR
VERSION:2.0
PRODID:-//ChamberMaster//Event Calendar 2.0//EN
METHOD:PUBLISH
X-PUBLISHED-TTL:P3D
REFRESH-INTERVAL:P3D
CALSCALE:GREGORIAN
BEGIN:VEVENT
DTSTART:20200507T170000Z
DTEND:20200507T180000Z
X-MICROSOFT-CDO-ALLDAYEVENT:FALSE
SUMMARY:VIRTUAL ChamberNet Luncheon Thursday
DESCRIPTION:ChamberNet Referral Groups are groups of serious business professionals who have the desire to improve their income by forming relationships with other Chamber members for the purpose of exchanging direct client referrals and leads. Participation is based on passing qualified leads\, bringing guests\, giving testimonials\, and attendance.\n\n\n\nThe purpose of the meetings is to help members get to know one another so that they can recognize opportunities to refer business when the occasion presents itself. People would rather do business with a known entity\, and providing a referral reduces the risk factor for the buyer because a recommendation carries high value.\n\n\n\nContact the group Chair or the Chamber directly if you would like to attend as a guest.
X-ALT-DESC;FMTTYPE=text/html:<br />\n<span style="font-size:16px\;"><span style="font-family:arial\;"><span style="border:1pt none windowtext\;padding:0in\;">&#8203\;ChamberNet Referral Groups are groups of serious business professionals who have the desire to improve their income by forming relationships with other Chamber members for the purpose of exchanging direct client referrals and leads.&nbsp\;</span><span style="border:none windowtext 1.0pt\;padding:0in\;"><span style="color:#444444\;">Participation is based on passing qualified leads\, bringing guests\, giving testimonials\, and attendance.</span></span><br style="bottom:auto\;box-sizing:content-box\;color:inherit\;content:normal\;empty-cells:show\;font-style:inherit\;font-variant:inherit\;font-weight:inherit\;font-stretch:inherit\;font-size:inherit\;letter-spacing:inherit\;line-height:inherit\;max-height:none\;max-width:none\;min-height:initial\;min-width:initial\;opacity:1\;outline:invert none medium\;outline-offset:0px\;resize:none\;text-align:inherit\;text-indent:inherit\;text-overflow:clip\;text-transform:inherit\;white-space:inherit\;word-break:inherit\;word-spacing:inherit\;word-wrap:inherit\;border-image-source:none\;border-image-slice:100% 1 0\;border-image-repeat:stretch\;border-radius:0px\;float:none\;overflow:visible\;right:auto\;visibility:inherit\;z-index:auto\;" />\n<br style="bottom:auto\;box-sizing:content-box\;color:inherit\;content:normal\;empty-cells:show\;font-style:inherit\;font-variant:inherit\;font-weight:inherit\;font-stretch:inherit\;font-size:inherit\;letter-spacing:inherit\;line-height:inherit\;max-height:none\;max-width:none\;min-height:initial\;min-width:initial\;opacity:1\;outline:invert none medium\;outline-offset:0px\;resize:none\;text-align:inherit\;text-indent:inherit\;text-overflow:clip\;text-transform:inherit\;white-space:inherit\;word-break:inherit\;word-spacing:inherit\;word-wrap:inherit\;border-image-source:none\;border-image-slice:100% 1 0\;border-image-repeat:stretch\;border-radius:0px\;float:none\;overflow:visible\;right:auto\;visibility:inherit\;z-index:auto\;" />\n<span style="border:1pt none windowtext\;padding:0in\;"><span style="border-image-source:none\;border-image-slice:100% 1 0\;border-image-repeat:stretch\;bottom:auto\;box-sizing:content-box\;content:normal\;empty-cells:show\;font-style:inherit\;font-variant:inherit\;font-weight:inherit\;font-stretch:inherit\;letter-spacing:inherit\;max-height:none\;max-width:none\;min-height:initial\;min-width:initial\;opacity:1\;outline:invert none medium\;outline-offset:0px\;resize:none\;text-align:inherit\;text-indent:inherit\;text-overflow:clip\;text-transform:inherit\;white-space:inherit\;word-break:inherit\;word-spacing:inherit\;word-wrap:inherit\;border-radius:0px\;box-shadow:none\;overflow:visible\;right:auto\;visibility:inherit\;z-index:auto\;"><span style="color:inherit\;"><span style="border-image-source:none\;border-image-slice:100% 1 0\;border-image-repeat:stretch\;bottom:auto\;box-sizing:content-box\;content:normal\;empty-cells:show\;font-style:inherit\;font-variant:inherit\;font-weight:inherit\;font-stretch:inherit\;letter-spacing:inherit\;max-height:none\;max-width:none\;min-height:initial\;min-width:initial\;opacity:1\;outline:invert none medium\;outline-offset:0px\;resize:none\;text-align:inherit\;text-indent:inherit\;text-overflow:clip\;text-transform:inherit\;white-space:inherit\;word-break:inherit\;word-spacing:inherit\;word-wrap:inherit\;border-radius:0px\;box-shadow:none\;overflow:visible\;right:auto\;visibility:inherit\;z-index:auto\;"><span style="border-image-source:none\;border-image-slice:100% 1 0\;border-image-repeat:stretch\;bottom:auto\;box-sizing:content-box\;content:normal\;empty-cells:show\;font-style:inherit\;font-variant:inherit\;font-weight:inherit\;font-stretch:inherit\;letter-spacing:inherit\;max-height:none\;max-width:none\;min-height:initial\;min-width:initial\;opacity:1\;outline:invert none medium\;outline-offset:0px\;resize:none\;text-align:inherit\;text-indent:inherit\;text-overflow:clip\;text-transform:inherit\;white-space:inherit\;word-break:inherit\;word-spacing:inherit\;word-wrap:inherit\;border-radius:0px\;box-shadow:none\;overflow:visible\;right:auto\;visibility:inherit\;z-index:auto\;"><span style="color:inherit\;"><span style="border-image-source:none\;border-image-slice:100% 1 0\;border-image-repeat:stretch\;bottom:auto\;box-sizing:content-box\;content:normal\;empty-cells:show\;font-style:inherit\;font-variant:inherit\;font-weight:inherit\;font-stretch:inherit\;letter-spacing:inherit\;max-height:none\;max-width:none\;min-height:initial\;min-width:initial\;opacity:1\;outline:invert none medium\;outline-offset:0px\;resize:none\;text-align:inherit\;text-indent:inherit\;text-overflow:clip\;text-transform:inherit\;white-space:inherit\;word-break:inherit\;word-spacing:inherit\;word-wrap:inherit\;border-radius:0px\;box-shadow:none\;overflow:visible\;right:auto\;visibility:inherit\;z-index:auto\;"><span style="color:inherit\;">The purpose of the meetings is to help members get to know one another so that they can recognize opportunities to refer business when the occasion presents itself. People would rather do business with a known entity\, and providing a referral reduces the risk factor for the buyer because a recommendation carries high value</span></span></span></span></span><span style="border:1pt none windowtext\;padding:0in\;">.</span><br style="bottom:auto\;box-sizing:content-box\;color:inherit\;content:normal\;empty-cells:show\;font-style:inherit\;font-variant:inherit\;font-weight:inherit\;font-stretch:inherit\;font-size:inherit\;letter-spacing:inherit\;line-height:inherit\;max-height:none\;max-width:none\;min-height:initial\;min-width:initial\;opacity:1\;outline:invert none medium\;outline-offset:0px\;resize:none\;text-align:inherit\;text-indent:inherit\;text-overflow:clip\;text-transform:inherit\;white-space:inherit\;word-break:inherit\;word-spacing:inherit\;word-wrap:inherit\;border-image-source:none\;border-image-slice:100% 1 0\;border-image-repeat:stretch\;border-radius:0px\;float:none\;overflow:visible\;right:auto\;visibility:inherit\;z-index:auto\;" />\n<br style="bottom:auto\;box-sizing:content-box\;color:inherit\;content:normal\;empty-cells:show\;font-style:inherit\;font-variant:inherit\;font-weight:inherit\;font-stretch:inherit\;font-size:inherit\;letter-spacing:inherit\;line-height:inherit\;max-height:none\;max-width:none\;min-height:initial\;min-width:initial\;opacity:1\;outline:invert none medium\;outline-offset:0px\;resize:none\;text-align:inherit\;text-indent:inherit\;text-overflow:clip\;text-transform:inherit\;white-space:inherit\;word-break:inherit\;word-spacing:inherit\;word-wrap:inherit\;border-image-source:none\;border-image-slice:100% 1 0\;border-image-repeat:stretch\;border-radius:0px\;float:none\;overflow:visible\;right:auto\;visibility:inherit\;z-index:auto\;" />\n<span style="border:1pt none windowtext\;padding:0in\;"><span style="border-image-source:none\;border-image-slice:100% 1 0\;border-image-repeat:stretch\;bottom:auto\;box-sizing:content-box\;content:normal\;empty-cells:show\;font-style:inherit\;font-variant:inherit\;font-weight:inherit\;font-stretch:inherit\;letter-spacing:inherit\;max-height:none\;max-width:none\;min-height:initial\;min-width:initial\;opacity:1\;outline:invert none medium\;outline-offset:0px\;resize:none\;text-align:inherit\;text-indent:inherit\;text-overflow:clip\;text-transform:inherit\;white-space:inherit\;word-break:inherit\;word-spacing:inherit\;word-wrap:inherit\;border-radius:0px\;box-shadow:none\;overflow:visible\;right:auto\;visibility:inherit\;z-index:auto\;"><span style="color:inherit\;"><span style="border-image-source:none\;border-image-slice:100% 1 0\;border-image-repeat:stretch\;bottom:auto\;box-sizing:content-box\;content:normal\;empty-cells:show\;font-style:inherit\;font-variant:inherit\;font-weight:inherit\;font-stretch:inherit\;letter-spacing:inherit\;max-height:none\;max-width:none\;min-height:initial\;min-width:initial\;opacity:1\;outline:invert none medium\;outline-offset:0px\;resize:none\;text-align:inherit\;text-indent:inherit\;text-overflow:clip\;text-transform:inherit\;white-space:inherit\;word-break:inherit\;word-spacing:inherit\;word-wrap:inherit\;border-radius:0px\;box-shadow:none\;overflow:visible\;right:auto\;visibility:inherit\;z-index:auto\;"><span style="color:inherit\;">Contact the group Chair or the Chamber directly if you would like to attend as a guest.</span></span></span></span></span></span></span></span></span></span>
LOCATION:Virtually meeting until further notice. Normally meet at AmericInn Lodge & Suites 13025 60th St Stillwater\, MN
UID:e.257.20395
SEQUENCE:3
DTSTAMP:20260422T005944Z
URL:https://greaterstillwaterchamber.com/events/details/virtual-chambernet-luncheon-thursday-20395
END:VEVENT

END:VCALENDAR
