BEGIN:VCALENDAR
VERSION:2.0
PRODID:-//ChamberMaster//Event Calendar 2.0//EN
METHOD:PUBLISH
X-PUBLISHED-TTL:P3D
REFRESH-INTERVAL:P3D
CALSCALE:GREGORIAN
BEGIN:VEVENT
DTSTART;VALUE=DATE:20231006
DTEND;VALUE=DATE:20231007
TRANSP:TRANSPARENT
X-MICROSOFT-CDO-ALLDAYEVENT:TRUE
SUMMARY:VIP PARKING for Artists/Rivertown Fall Art Festival 2023
DESCRIPTION:VIP Parking Fee for Artists who are participating in the 2023 Rivertown Fall Art Festival.\nLimited!! VIP Parking - There are 38 VIP spots available. We will offer (first come\, first paid) VIP parking directly at the event location. If you have a trailer it would need to be disconnected and counted as one spot and each car will be counted as one as well.\n\nCost is $50 for the weekend\, per spot.\n\n  To reserve VIP parking you must follow THIS LINK to register and make payment.\n\nCLICK ON the blue Register    button. You will be registering through the Greater Stillwater Chamber's system   if you are NOT a Chamber member\, please click on the RIGHT side that says Not a member? Click here to continue your event registration.\n\nFill in the required fields. If you require 2 spots-you will need to Add Attendee and fill in your information again for the additional space (it should auto fill).  Payment must be made by credit card to reserve space!\n\n\n\nAdditional Parking! Parking will be available around town on our streets and ramps  You can find Parking locations HERE. Parking MAP\n\n*Please NOTE on Parking Map: Lot 5 & 9 will not be available for parking during this event - Lot 10 will be the VIP Parking Lot.
X-ALT-DESC;FMTTYPE=text/html:<span style="font-size:16px\;">VIP Parking Fee for Artists who are participating in the 2023 Rivertown Fall Art Festival.</span>\n<hr /><span style="font-size:16px\;"><span style="color:#FF8C00\;"><em><strong>Limited!!&nbsp\;VIP Parking</strong></em></span><span style="color:#B22222\;"><em><strong>&nbsp\;</strong></em></span>-&nbsp\;<strong>There are 38 VIP spots available.&nbsp\;</strong>We will offer (first come\, first paid) VIP parking directly at the event location. If you have a trailer it would need to be disconnected and counted as one spot and each car will be counted as one as well.<br />\nCost is $50 for the weekend\, per spot.<br />\n&gt\;&gt\;To reserve VIP parking you must follow&nbsp\;<a href="https://greaterstillwaterchamber.chambermaster.com/eventregistration/register/36511" target="_blank"><span style="background-color:#FFFF00\;">THIS LINK&nbsp\;</span></a>to register and make payment.<br />\nCLICK ON the&nbsp\;blue&nbsp\;Register &gt\;&gt\; button. You will be registering through the Greater Stillwater Chamber&rsquo\;s system &ndash\; if you are NOT a Chamber member\, please click on the RIGHT side that says Not a member? Click here to continue your event registration.<br />\nFill in the required fields. If you require 2 spots-you will need to Add Attendee and fill in your information again for the additional space (it should auto fill).&nbsp\;&nbsp\;Payment must be made by credit card to reserve space!</span><br />\n<br />\n<span style="font-size:16px\;"><span style="color:#FF8C00\;"><em><strong>Additional Parking!&nbsp\;</strong></em></span>Parking will be available around town on our streets and ramps&nbsp\; You can find Parking locations&nbsp\;<a data-saferedirecturl="https://www.google.com/url?q=https://www.ci.stillwater.mn.us/parking&amp\;source=gmail&amp\;ust=1631726845319000&amp\;usg=AFQjCNGKt-yzI04wgpY7XmtDpJW_NIV6OA" href="https://www.ci.stillwater.mn.us/community/amenities/parking-information" target="_blank">HERE</a>. <a href="https://www.stillwatermn.gov/home/showpublisheddocument/2406/638278861910830000" target="_blank"><strong>Parking MAP</strong></a><br />\n*Please NOTE on Parking Map: Lot 5 &amp\; 9 will not be available for parking during this event - Lot 10 will be the VIP Parking Lot.</span>
LOCATION:
UID:e.257.36511
SEQUENCE:3
DTSTAMP:20260423T041524Z
URL:https://greaterstillwaterchamber.com/events/details/vip-parking-for-artists-rivertown-fall-art-festival-2023-36511
END:VEVENT

END:VCALENDAR
