BEGIN:VCALENDAR
VERSION:2.0
PRODID:-//ChamberMaster//Event Calendar 2.0//EN
METHOD:PUBLISH
X-PUBLISHED-TTL:P3D
REFRESH-INTERVAL:P3D
CALSCALE:GREGORIAN
BEGIN:VEVENT
DTSTART:20240625T230000Z
DTEND:20240626T001500Z
X-MICROSOFT-CDO-ALLDAYEVENT:FALSE
SUMMARY:Vin & Yin + Vino at 7 Vines Vineyard
DESCRIPTION:This 75 minute "Vin + Yin" class blends the aspects of an active vinyasa practice\, with the soothing elements of yin yoga.  All levels are welcome. Participants are encouraged to bring your own mat and water.\n\n\n\nLed by Meghan Black\, Expert & Certified Yoga Instructor at Align Optimal Wellness. This class will be held at 7 Vines Vineyard at 101 Hwy 96 East\, Dellwood\, MN. Stay for a glass of wine or yummy food! Wine sample and coupon provided!
X-ALT-DESC;FMTTYPE=text/html:This 75 minute &ldquo\;Vin + Yin&rdquo\; class blends the aspects of an active vinyasa practice\, with the soothing elements of yin yoga.&nbsp\; All levels are welcome. Participants are encouraged to bring your own mat and water.<br />\n<br />\nLed by Meghan Black\, Expert &amp\; Certified Yoga Instructor at Align Optimal Wellness. This class will be held at 7 Vines Vineyard at 101 Hwy 96 East\, Dellwood\, MN. Stay for a glass of wine or yummy food! Wine sample and coupon provided!
LOCATION:7 Vines Vineyard 101 Hwy 96\, Dellwood MN 55110
UID:e.257.38609
SEQUENCE:3
DTSTAMP:20260422T162620Z
URL:https://greaterstillwaterchamber.com/events/details/vin-yin-vino-at-7-vines-vineyard-38609
END:VEVENT

END:VCALENDAR
