BEGIN:VCALENDAR
VERSION:2.0
PRODID:-//ChamberMaster//Event Calendar 2.0//EN
METHOD:PUBLISH
X-PUBLISHED-TTL:P3D
REFRESH-INTERVAL:P3D
CALSCALE:GREGORIAN
BEGIN:VEVENT
DTSTART:20191215T203000Z
DTEND:20191215T220000Z
X-MICROSOFT-CDO-ALLDAYEVENT:FALSE
SUMMARY:Vallee de Croix Christmas Show 2019
DESCRIPTION:Join us for our signature Christmas Holiday event! Singing\, fun\, and refreshments!\n\nSunday December 15\, 2:30 pm\n\nSt Paul Lutheran Church\, 609 5th Street S\, Stillwater\, MN 55082
X-ALT-DESC;FMTTYPE=text/html:Join us for our signature Christmas Holiday event! Singing\, fun\, and refreshments!<br />\nSunday December 15\, 2:30 pm<br />\nSt Paul Lutheran Church\, 609 5th Street S\, Stillwater\, MN 55082
LOCATION:St Paul Lutheran Church 609 5th Street South\, Stillwater\, MN 55082
UID:e.257.29991
SEQUENCE:3
DTSTAMP:20260422T060834Z
URL:https://greaterstillwaterchamber.com/events/details/vallee-de-croix-christmas-show-2019-29991
END:VEVENT

END:VCALENDAR
