BEGIN:VCALENDAR
VERSION:2.0
PRODID:-//ChamberMaster//Event Calendar 2.0//EN
METHOD:PUBLISH
X-PUBLISHED-TTL:P3D
REFRESH-INTERVAL:P3D
CALSCALE:GREGORIAN
BEGIN:VEVENT
DTSTART:20240610T140000Z
DTEND:20240614T170000Z
X-MICROSOFT-CDO-ALLDAYEVENT:FALSE
SUMMARY:Vacation Bible School
DESCRIPTION:Join our Miraculous Mission at Vacation Bible School (VBS) June 10-14 from 9 am to noon! Children 3 years old (must be toilet trained) through 6th grade are invited to join us on our mission: Jesus saves the world. Our adventures will include eating out-of-this-world snacks\, playing a multitude of games\, learning a whirlwind of Bible stories\, raising our voices to sing praises\, and crafting creations. The cost is $10 per child and can be paid via cash\, check\, or venmo on the first day. Family Fun Night is Thursday night\, June 13 from 5-7:30 p.m. We will provide a complimentary dinner with burgers\, hotdogs\, chips\, and root beer floats. There will also be a jumpy house and rocket launchers! We invite you to come as a family and invite friends\, family\, and neighbors too! Online registration is now open.
X-ALT-DESC;FMTTYPE=text/html:Join our Miraculous Mission at Vacation Bible School (VBS) June 10-14 from 9 am to noon! Children 3 years old (must be toilet trained) through 6th grade are invited to join us on our mission: Jesus saves the world. Our adventures will include eating out-of-this-world snacks\, playing a multitude of games\, learning a whirlwind of Bible stories\, raising our voices to sing praises\, and crafting creations. The cost is $10 per child and can be paid via cash\, check\, or venmo on the first day. Family Fun Night is Thursday night\, June 13 from 5-7:30 p.m. We will provide a complimentary dinner with burgers\, hotdogs\, chips\, and root beer floats. There will also be a jumpy house and rocket launchers! We invite you to come as a family and invite friends\, family\, and neighbors too! Online registration is now open.
LOCATION:Salem Lutheran Church 14940 62nd St Stillwater\, MN 55082
UID:e.257.37194
SEQUENCE:3
DTSTAMP:20260422T161033Z
URL:https://greaterstillwaterchamber.com/events/details/vacation-bible-school-37194
END:VEVENT

END:VCALENDAR
