BEGIN:VCALENDAR
VERSION:2.0
PRODID:-//ChamberMaster//Event Calendar 2.0//EN
METHOD:PUBLISH
X-PUBLISHED-TTL:P3D
REFRESH-INTERVAL:P3D
CALSCALE:GREGORIAN
BEGIN:VEVENT
DTSTART:20240711T000000Z
DTEND:20240711T020000Z
X-MICROSOFT-CDO-ALLDAYEVENT:FALSE
SUMMARY:USL2 Legends vs. Thunder Bay Chill
DESCRIPTION:Join us at Pony Stadium for a St. Croix Soccer Club USL2 Legends match against Thunder Bay Chill! St. Croix Club players get in free with a jersey. Halftime activity\, concessions\, apparel sales\, and more fun to be had!\n\n\n\nUSL2 Legends versus Thunder Bay Chill
X-ALT-DESC;FMTTYPE=text/html:Join us at Pony Stadium for a St. Croix Soccer Club USL2 Legends match against Thunder Bay Chill! St. Croix Club players get in free with a jersey. Halftime activity\, concessions\, apparel sales\, and more fun to be had!<br />\n<br />\nUSL2 Legends versus Thunder Bay Chill
LOCATION:Pony Stadium: 5701 Stillwater Blvd.\, Stillwater\, MN 55082
UID:e.257.37794
SEQUENCE:3
DTSTAMP:20260422T173051Z
URL:https://greaterstillwaterchamber.com/events/details/usl2-legends-vs-thunder-bay-chill-37794
END:VEVENT

END:VCALENDAR
