BEGIN:VCALENDAR
VERSION:2.0
PRODID:-//ChamberMaster//Event Calendar 2.0//EN
METHOD:PUBLISH
X-PUBLISHED-TTL:P3D
REFRESH-INTERVAL:P3D
CALSCALE:GREGORIAN
BEGIN:VEVENT
DTSTART:20240627T000000Z
DTEND:20240627T020000Z
X-MICROSOFT-CDO-ALLDAYEVENT:FALSE
SUMMARY:USL2 Legends vs. Rochester FC
DESCRIPTION:Join us at Pony Stadium for a St. Croix Soccer Club USL2 Legends match against Rochester FC! St. Croix Club players get in free with a jersey. Halftime activity\, concessions\, apparel sales\, and more fun to be had!\n\n\n\nUSL2 Legends versus Rochester FC
X-ALT-DESC;FMTTYPE=text/html:Join us at Pony Stadium for a St. Croix Soccer Club USL2 Legends match against Rochester FC! St. Croix Club players get in free with a jersey. Halftime activity\, concessions\, apparel sales\, and more fun to be had!<br />\n<br />\nUSL2 Legends versus Rochester FC
LOCATION:Pony Stadium: 5701 Stillwater Blvd.\, Stillwater\, MN 55082
UID:e.257.37792
SEQUENCE:3
DTSTAMP:20260422T162208Z
URL:https://greaterstillwaterchamber.com/events/details/usl2-legends-vs-rochester-fc-37792
END:VEVENT

END:VCALENDAR
