BEGIN:VCALENDAR
VERSION:2.0
PRODID:-//ChamberMaster//Event Calendar 2.0//EN
METHOD:PUBLISH
X-PUBLISHED-TTL:P3D
REFRESH-INTERVAL:P3D
CALSCALE:GREGORIAN
BEGIN:VEVENT
DTSTART:20231029T153000Z
DTEND:20231029T160000Z
X-MICROSOFT-CDO-ALLDAYEVENT:FALSE
SUMMARY:Trunk or Treat
DESCRIPTION:Put on your Halloween costumes and bring the kids to "trick or treat" in the safety of our church parking lot. Enjoy some warm beverages and treats. Have a little fun to start the day!
X-ALT-DESC;FMTTYPE=text/html:Put on your Halloween costumes and bring the kids to &quot\;trick or treat&quot\; in the safety of our church parking lot. Enjoy some warm beverages and treats. Have a little fun to start the day!
LOCATION:A United Church (formerly People's Congregational Church) 309 N Third St Bayport\, MN 55033
UID:e.257.36642
SEQUENCE:3
DTSTAMP:20260423T040914Z
URL:https://greaterstillwaterchamber.com/events/details/trunk-or-treat-36642
END:VEVENT

END:VCALENDAR
