BEGIN:VCALENDAR
VERSION:2.0
PRODID:-//ChamberMaster//Event Calendar 2.0//EN
METHOD:PUBLISH
X-PUBLISHED-TTL:P3D
REFRESH-INTERVAL:P3D
CALSCALE:GREGORIAN
BEGIN:VEVENT
DTSTART:20240904T213000Z
DTEND:20240904T223000Z
X-MICROSOFT-CDO-ALLDAYEVENT:FALSE
SUMMARY:Totally Criminal Cocktail Hour featuring William Kent Krueger
DESCRIPTION:Wouldn't it be great to be able to chat with your favorite mystery authors? This event for local mystery writers and their fans always includes lively discussion and a great time! A cash bar is also available so come early to mingle. Meet William Kent Krueger in person! Tickets are $10 and include a $5 shopping coupon for the night of the event.
X-ALT-DESC;FMTTYPE=text/html:Wouldn&rsquo\;t it be great to be able to chat with your favorite mystery authors? This event for local mystery writers and their fans always includes lively discussion and a great time! A cash bar is also available so come early to mingle. Meet William Kent Krueger in person! Tickets are $10 and include a $5 shopping coupon for the night of the event.
LOCATION:The Grand Banquet Hall 301 S 2nd St Stillwater\, MN 55082
UID:e.257.38638
SEQUENCE:3
DTSTAMP:20260422T214028Z
URL:https://greaterstillwaterchamber.com/events/details/totally-criminal-cocktail-hour-featuring-william-kent-krueger-38638
END:VEVENT

END:VCALENDAR
