BEGIN:VCALENDAR
VERSION:2.0
PRODID:-//ChamberMaster//Event Calendar 2.0//EN
METHOD:PUBLISH
X-PUBLISHED-TTL:P3D
REFRESH-INTERVAL:P3D
CALSCALE:GREGORIAN
BEGIN:VEVENT
DTSTART:20240501T213000Z
DTEND:20240501T223000Z
X-MICROSOFT-CDO-ALLDAYEVENT:FALSE
SUMMARY:Totally Criminal Cocktail Hour featuring Nick Petrie
DESCRIPTION:Wouldn't it be great to be able to chat with your favorite mystery authors? This event for local mystery writers and their fans always includes lively discussion and a great time! A cash bar is also available so come early to mingle. Tickets are $10 and include a $5 shopping coupon for the night of the event. To purchase your ticket\, please click on the red Buy Tickets button and follow the prompts. Meet Nick Petrie in person! Nick Petrie is the author of eight novels in the Peter Ash series\, most recently The Price You Pay (February 2024). His debut\, The Drifter\, won both the ITW Thriller award and the Barry Award for Best First Novel\, and was a finalist for the Edgar and the Hammett Awards. A husband and father\, he lives in the Milwaukee area.
X-ALT-DESC;FMTTYPE=text/html:Wouldn&rsquo\;t it be great to be able to chat with your favorite mystery authors? This event for local mystery writers and their fans always includes lively discussion and a great time! A cash bar is also available so come early to mingle. Tickets are $10 and include a $5 shopping coupon for the night of the event. To purchase your ticket\, please click on the red Buy Tickets button and follow the prompts. Meet Nick Petrie in person! Nick Petrie is the author of eight novels in the Peter Ash series\, most recently The Price You Pay (February 2024). His debut\, The Drifter\, won both the ITW Thriller award and the Barry Award for Best First Novel\, and was a finalist for the Edgar and the Hammett Awards. A husband and father\, he lives in the Milwaukee area.
LOCATION:The Lowell Inn 102 2nd Street N Stillwater\, MN 55082
UID:e.257.37110
SEQUENCE:3
DTSTAMP:20260422T145202Z
URL:https://greaterstillwaterchamber.com/events/details/totally-criminal-cocktail-hour-featuring-nick-petrie-37110
END:VEVENT

END:VCALENDAR
