BEGIN:VCALENDAR
VERSION:2.0
PRODID:-//ChamberMaster//Event Calendar 2.0//EN
METHOD:PUBLISH
X-PUBLISHED-TTL:P3D
REFRESH-INTERVAL:P3D
CALSCALE:GREGORIAN
BEGIN:VEVENT
DTSTART:20241124T213000Z
DTEND:20241124T230000Z
X-MICROSOFT-CDO-ALLDAYEVENT:FALSE
SUMMARY:TOPSY TURVY: It’s not your phone that’s listening to you
DESCRIPTION:Corporations buy\, sell and use your data without your knowledge or consent to create behavioral profiles so highly specific it seems you're phone is listening to you! These profiles can also determine if you can open a bank account\, secure a loan\, be insured and get the job you want. Learn how to stop this and walk away with seven steps you can immediately take to defend your privacy and take back your data.
X-ALT-DESC;FMTTYPE=text/html:Corporations buy\, sell and use your data without your knowledge or consent to create behavioral profiles so highly specific it seems you&rsquo\;re phone is listening to you! These profiles can also determine if you can open a bank account\, secure a loan\, be insured and get the job you want. Learn how to stop this and walk away with seven steps you can immediately take to defend your privacy and take back your data.
LOCATION:Anna's Bistro\, 11 Judd Street\, Marine on St Croix
UID:e.257.38940
SEQUENCE:3
DTSTAMP:20260422T180410Z
URL:https://greaterstillwaterchamber.com/events/details/topsy-turvy-it-s-not-your-phone-that-s-listening-to-you-38940
END:VEVENT

END:VCALENDAR
