BEGIN:VCALENDAR
VERSION:2.0
PRODID:-//ChamberMaster//Event Calendar 2.0//EN
METHOD:PUBLISH
X-PUBLISHED-TTL:P3D
REFRESH-INTERVAL:P3D
CALSCALE:GREGORIAN
BEGIN:VEVENT
DTSTART:20200111T210000Z
DTEND:20200111T223000Z
X-MICROSOFT-CDO-ALLDAYEVENT:FALSE
SUMMARY:Tonic Sol-fa Concert at The Zephyr Theatre
DESCRIPTION:The Zephyr Theatre\, Stillwater is proud to present the amazing Tonic Sol-fa (TSF) on Saturday\, January 11\, 2020 at 3:00pm and 7:00pm.  TSF is a ground-breaking a cappella ensemble from Minnesota\, in constant development since their formation two decades ago. TSF stands as one of the leading forces in the world of vocal music with Emmy Award winning arrangements and multi-million selling compositions.
X-ALT-DESC;FMTTYPE=text/html:<div>The Zephyr Theatre\, Stillwater is proud to present the amazing Tonic Sol-fa (TSF) on Saturday\, January 11\, 2020 at 3:00pm and 7:00pm.&nbsp\; TSF is a ground-breaking a cappella ensemble from Minnesota\, in constant development since their formation two decades ago. TSF stands as one of the leading forces in the world of vocal music with Emmy Award winning arrangements and multi-million selling compositions.</div>\n
LOCATION:The Zephyr Theatre\, 601 Main St.\, N.\, Stillwater\, MN
UID:e.257.30220
SEQUENCE:3
DTSTAMP:20260422T043644Z
URL:https://greaterstillwaterchamber.com/events/details/tonic-sol-fa-concert-at-the-zephyr-theatre-30220
END:VEVENT

END:VCALENDAR
