BEGIN:VCALENDAR
VERSION:2.0
PRODID:-//ChamberMaster//Event Calendar 2.0//EN
METHOD:PUBLISH
X-PUBLISHED-TTL:P3D
REFRESH-INTERVAL:P3D
CALSCALE:GREGORIAN
BEGIN:VEVENT
DTSTART:20250302T180000Z
DTEND:20250302T210000Z
X-MICROSOFT-CDO-ALLDAYEVENT:FALSE
SUMMARY:The Tasting Table - A Wine\, Pairing and Education Experience
DESCRIPTION:The TASTING TABLE: a wine\, pairing and education experience\n\nJoin us for an evening of palate pleasing reserve wines\, paired with savory bites\, while conversing with fellow wine-enthusiasts!  Wine Maker Matt Scott will share wine notes and pairing compliments\, with small bites presented by LeFebvre's Catering. Vicky and Luke LeFebvre are one of our Club 7 Members.\n\n\n\nThis 'open to Members first' event has limited availability. We hope you will join us for the Wine Maker conversations focused on the reserve wines you will experience\, the sumptuous sips and savory bites\, and time with 7 vines friends. \n\nExtend your day and make a dining reservation for our wine bar following your Tasting Table Experience.
X-ALT-DESC;FMTTYPE=text/html:<h1>The TASTING TABLE: a wine\, pairing and education experience</h1>\n\n<p><span style="font-family:arial\,sans-serif">Join us for an evening of palate pleasing reserve wines\, paired with savory bites\, while conversing with fellow wine-enthusiasts!&nbsp\; Wine Maker Matt Scott will share wine notes and pairing compliments\, with small bites presented by LeFebvre&rsquo\;s Catering. Vicky and Luke LeFebvre are one of our Club 7 Members.<br />\n<br />\nThis &lsquo\;open to Members first&rsquo\; event has limited availability. We hope you will join us for the Wine Maker conversations focused on the reserve wines you will experience\, the sumptuous sips and savory bites\, and time with 7 vines friends.</span><em><span style="font-family:arial\,sans-serif"> </span></em></p>\n\n<p>Extend your day and make a dining reservation for our wine bar following your Tasting Table Experience.</p>\n
LOCATION:7 Vines Vineyard 101 Hwy 96 East Dellwood\, MN 55110
UID:e.257.43051
SEQUENCE:3
DTSTAMP:20260419T144047Z
URL:https://greaterstillwaterchamber.com/events/details/the-tasting-table-a-wine-pairing-and-education-experience-43051
END:VEVENT

END:VCALENDAR
