BEGIN:VCALENDAR
VERSION:2.0
PRODID:-//ChamberMaster//Event Calendar 2.0//EN
METHOD:PUBLISH
X-PUBLISHED-TTL:P3D
REFRESH-INTERVAL:P3D
CALSCALE:GREGORIAN
BEGIN:VEVENT
DTSTART;VALUE=DATE:20191226
DTEND;VALUE=DATE:20191227
TRANSP:TRANSPARENT
X-MICROSOFT-CDO-ALLDAYEVENT:TRUE
SUMMARY:The "Muppet Christmas Carol" Movie
DESCRIPTION:The Muppet Christmas Carol movie is FREE for kids on Thursday\, Dec. 26 at The Zephyr Theatre\, Stillwater\, presented in collaboration with the St. Croix Film Society.  Three showings will be at 1:00pm\, 4:00pm and 7:00pm.  Join us in reliving our fondest childhood memories and creating new memories by watching The Muppet Christmas Carol.
X-ALT-DESC;FMTTYPE=text/html:<h4>The Muppet Christmas Carol movie is FREE for kids on Thursday\, Dec. 26 at The Zephyr Theatre\, Stillwater\, presented in collaboration with the St. Croix Film Society.&nbsp\; Three showings will be at 1:00pm\, 4:00pm and 7:00pm.&nbsp\; Join us in reliving our fondest childhood memories and creating new memories by watching The Muppet Christmas Carol.</h4>\n
LOCATION:The Zephyr Theatre\, 601 Main St.\, N.\, Stillwater\, MN Free parking.
UID:e.257.30219
SEQUENCE:3
DTSTAMP:20260422T061008Z
URL:https://greaterstillwaterchamber.com/events/details/the-muppet-christmas-carol-movie-30219
END:VEVENT

END:VCALENDAR
