BEGIN:VCALENDAR
VERSION:2.0
PRODID:-//ChamberMaster//Event Calendar 2.0//EN
METHOD:PUBLISH
X-PUBLISHED-TTL:P3D
REFRESH-INTERVAL:P3D
CALSCALE:GREGORIAN
BEGIN:VEVENT
DTSTART:20200122T003000Z
DTEND:20200122T013000Z
X-MICROSOFT-CDO-ALLDAYEVENT:FALSE
SUMMARY:The Ketogenic Diet: An Introduction
DESCRIPTION:Tuesday\, January 21 6:30-7:30pm The Ketogenic style of eating has become increasingly popular in recent years. This low carbohydrate\, high fat diet resets our body's metabolism to burn fat\, instead of sugar\, for fuel. The benefits include weight loss\, mental clarity\, and improved energy. Attend this class to learn what the Ketogenic Diet is\, understand what to eat\, learn the good sources of fat\, identify the health benefits of eating Keto\, and learn the importance of detoxification as the body starts to lose weight. We will also have some samples of keto friendly products for you to try. Instructor: Chelsea Kazmierczak-Goethel of MetroEast Natural Healing Center Cost: $5/free for owners
X-ALT-DESC;FMTTYPE=text/html:Tuesday\, January 21 6:30-7:30pm The Ketogenic style of eating has become increasingly popular in recent years. This low carbohydrate\, high fat diet resets our body&rsquo\;s metabolism to burn fat\, instead of sugar\, for fuel. The benefits include weight loss\, mental clarity\, and improved energy. Attend this class to learn what the Ketogenic Diet is\, understand what to eat\, learn the good sources of fat\, identify the health benefits of eating Keto\, and learn the importance of detoxification as the body starts to lose weight. We will also have some samples of keto friendly products for you to try. Instructor: Chelsea Kazmierczak-Goethel of MetroEast Natural Healing Center Cost: $5/free for owners
LOCATION:River Market Co-op 221 N Mains St Stillwater\, mn
UID:e.257.30383
SEQUENCE:3
DTSTAMP:20260422T043250Z
URL:https://greaterstillwaterchamber.com/events/details/the-ketogenic-diet-an-introduction-30383
END:VEVENT

END:VCALENDAR
