BEGIN:VCALENDAR
VERSION:2.0
PRODID:-//ChamberMaster//Event Calendar 2.0//EN
METHOD:PUBLISH
X-PUBLISHED-TTL:P3D
REFRESH-INTERVAL:P3D
CALSCALE:GREGORIAN
BEGIN:VEVENT
DTSTART;VALUE=DATE:20231122
DTEND;VALUE=DATE:20231123
TRANSP:TRANSPARENT
X-MICROSOFT-CDO-ALLDAYEVENT:TRUE
SUMMARY:Thanksgiving Dinner TO GO!
DESCRIPTION:Now Offering Take Home Dinners!\n\nPick up on November 22\n\nCall thle Afton House Inn to find out which Package best fits for your family Thanksgiving Dinner to Go!\n\n651-436-8883
X-ALT-DESC;FMTTYPE=text/html:<p><strong>Now Offering Take Home Dinners!<br />\nPick up on November 22</strong></p>\n\n<p><u>Call thle Afton House Inn to find out which Package best fits for your family Thanksgiving Dinner to Go!</u></p>\n\n<p><u>651-436-8883</u></p>\n
LOCATION:The Historic Afton House Inn 3291 St. Croix Trail S. Afton\, Mn 55001
UID:e.257.24270
SEQUENCE:3
DTSTAMP:20260423T015509Z
URL:https://greaterstillwaterchamber.com/events/details/thanksgiving-dinner-to-go-24270
END:VEVENT

END:VCALENDAR
