BEGIN:VCALENDAR
VERSION:2.0
PRODID:-//ChamberMaster//Event Calendar 2.0//EN
METHOD:PUBLISH
X-PUBLISHED-TTL:P3D
REFRESH-INTERVAL:P3D
CALSCALE:GREGORIAN
BEGIN:VEVENT
DTSTART:20250725T230000Z
DTEND:20250726T001500Z
X-MICROSOFT-CDO-ALLDAYEVENT:FALSE
SUMMARY:Tastes\, Taters & Tours! A Tour + Taste Experience at 7 Vines!
DESCRIPTION:Tastings\, Taters & Tours! \nJoin us for an evening with a Wine Pairing Experience and savory bites from Greater Tater! We have paired the savory flavors with our award winning wines--- including a Reserve Wine! \n\n\n\nIn this one-hour experience\, our wine specialist will guide you as you sip\, savor\, taste and tour the vines. Immerse yourself in the art of pairing as we explore the intricate interplay between premium wines crafted with passion\, and Greater Tater savory taters to complement the wine.\n\n\n\nJoin us for an evening of tasting\, laughter\, and fun as we raise a glass and enjoy the evening. We look forward to welcoming you to this all new Wine Pairing Experience!\nFriday July 25\n\n6PM class \n\n\nContinue your stay at the vineyard and treat yourself to dinner or apps with your favorite glass of wine.  www.7vinesvineyard.com/visit\n\nLive music with Lori Lofstrom!
X-ALT-DESC;FMTTYPE=text/html:<h2 style="font-style:italic"><big>Tastings\, Taters &amp\; Tours!&nbsp\;</big></h2>\nJoin us for an evening with a Wine Pairing Experience and savory bites from Greater Tater! We have paired the savory flavors with our award winning wines--- including a Reserve Wine!&nbsp\;<br />\n<br />\nIn this one-hour experience\, our wine specialist will guide you as you sip\, savor\, taste and tour the vines. Immerse yourself in the art of pairing as we explore the intricate interplay between premium wines crafted with passion\, and Greater Tater savory taters to complement the wine.<br />\n<br />\nJoin us for an evening of tasting\, laughter\, and fun as we raise a glass and enjoy the evening. We look forward to welcoming you to this all new Wine Pairing Experience!\n<h2 style="font-style:italic">Friday July 25<br />\n6PM class&nbsp\;</h2>\n<br />\nContinue your stay at the vineyard and treat yourself to dinner or apps with your favorite glass of wine.&nbsp\; www.7vinesvineyard.com/visit<br />\nLive music with Lori Lofstrom!&nbsp\;
LOCATION:7 Vines Vineyard 101 Hwy 96 East Dellwood\, MN 55110
UID:e.257.43443
SEQUENCE:3
DTSTAMP:20260422T043643Z
URL:https://greaterstillwaterchamber.com/events/details/tastes-taters-tours-a-tour-taste-experience-at-7-vines-43443
END:VEVENT

END:VCALENDAR
