BEGIN:VCALENDAR
VERSION:2.0
PRODID:-//ChamberMaster//Event Calendar 2.0//EN
METHOD:PUBLISH
X-PUBLISHED-TTL:P3D
REFRESH-INTERVAL:P3D
CALSCALE:GREGORIAN
BEGIN:VEVENT
DTSTART:20240713T160000Z
DTEND:20240713T210000Z
X-MICROSOFT-CDO-ALLDAYEVENT:FALSE
SUMMARY:Summer Craft Hot Sauce Fest
DESCRIPTION:July 13\, 2024  11:00 am - 4:00 pm\n\nLift Bridge Brewing Company\, 1900 Tower Dr W\, Stillwater\, MN 55082\, USA\n\n\n\nLift Bridge is proud to host our Summer Craft Hot Sauce Fest - showcasing amazing local Hot Sauce\, Salsa & Spice Companies on Saturday\, July 13 from 11 AM - 4 PM.\n\n\n\nLift Bridge is always happy to help other Small Businesses\, Makers & Artisans - and it's a chance to enjoy some fantastic beers while you shop and try all of the spicy goodness! This event will be our BIGGEST Hot Sauce Fest EVER!\n\nFeatured Craft Hot Sauce Companies (in Alphabetical Order / Vendors subject to change):\n\n1788 Seasonings // The Ben's Hot Sauce // Black Roots Sauces & Seasonings // Blu Lu // Double Take Salsa // Enchanted Forest Foods // Facepunch Foods // Harry's Hot Sauce // Hellraising Hot Sauce // Lake Superior Spice Co. // Lightfield BBQ // Log's Hot Sauce // Lovejoy's Bloody Mary Mix // Lucky's Sauces // Miss Jenny's Hot Sauce // Nuanced Hot Sauce // Off Type Sauce & Spice // Red Eye Hot Sauce // Red Ghost Foods // River Bend Gardens // Salsa Lisa // Sam Sa'house Hot Sauce // Sauce North // Sembo's Sauce // Treats by T // \n\nSpicy Highlights of the Day!\n\n\n	Limited Edition Beer: Peppered Pineapple Blonde Ale\n\n\n\n	Featured Featured Pop-Ups (11 AM - 4 PM) Smash Burgers by The Salsa Collaborative and Empanadas by Chow  Empanadas\n\n\n\n	Free Mini-Massages from Parkview Chiropractic (1:30 - 4 PM)\n\n\n\n	Featured Non-Profit: North Hudson Pepper Festival\n\n\n\n	Music by Zeb Sears from 4 - 7 PM
X-ALT-DESC;FMTTYPE=text/html:<p><span style="color:#000000">July 13\, 2024&nbsp\;&nbsp\;11:00 am&nbsp\;-&nbsp\;4:00 pm<br />\nLift Bridge Brewing Company\, 1900 Tower Dr W\, Stillwater\, MN 55082\, USA</span></p>\n\n<div>\n<div>\n<p><span style="color:#000000">Lift Bridge&nbsp\;is proud to host our&nbsp\;Summer Craft Hot Sauce Fest&nbsp\;- showcasing&nbsp\;amazing&nbsp\;local Hot Sauce\, Salsa &amp\; Spice Companies&nbsp\;on&nbsp\;Saturday\, July 13 from 11 AM - 4 PM.<br />\n<br />\nLift Bridge&nbsp\;is always happy to help other&nbsp\;Small Businesses\, Makers &amp\; Artisans&nbsp\;- and it&#39\;s a chance to enjoy some&nbsp\;fantastic beers&nbsp\;while you shop and try all of the&nbsp\;spicy goodness!&nbsp\;This event will be our BIGGEST Hot Sauce Fest EVER!</span></p>\n\n<p><span style="color:#000000"><em>Featured Craft Hot Sauce Companies&nbsp\;(in Alphabetical Order / Vendors subject to change):</em></span><br />\n<em><a href="http://40acrefoods.com/" style="box-sizing: border-box\; background-color: transparent\; text-decoration-line: none\; color: rgb(192\, 49\, 26)\;" target="_blank"><span style="color:#000000"><u>1788 Seasonings</u></span></a></em><span style="color:#000000"><em>&nbsp\;</em><em>//</em></span><em><span style="color:#000000">&nbsp\;</span><a href="https://www.facebook.com/thebenshotsauce" style="box-sizing: border-box\; background-color: transparent\; text-decoration-line: none\; color: rgb(192\, 49\, 26)\;" target="_blank"><span style="color:#000000">The Ben&#39\;s Hot Sauce</span></a></em><span style="color:#000000"><em>&nbsp\;//&nbsp\;</em></span><em><a href="https://www.facebook.com/BlackRootsSeasonings" style="box-sizing: border-box\; background-color: transparent\; text-decoration-line: none\; color: rgb(192\, 49\, 26)\;" target="_blank"><span style="color:#000000">Black Roots Sauces &amp\; Seasonings</span></a></em><span style="color:#000000"><em>&nbsp\;//&nbsp\;</em></span><em><a href="https://www.facebook.com/profile.php?id=61551955261953" style="box-sizing: border-box\; background-color: transparent\; text-decoration-line: none\; color: rgb(192\, 49\, 26)\;" target="_blank"><span style="color:#000000"><u>Blu Lu</u></span></a></em><span style="color:#000000"><em>&nbsp\;//&nbsp\;</em></span><em><a href="https://www.facebook.com/DoubleTakeSalsa" style="box-sizing: border-box\; background-color: transparent\; text-decoration-line: none\; color: rgb(192\, 49\, 26)\;" target="_blank"><span style="color:#000000">Double Take Salsa</span></a></em><span style="color:#000000"><em>&nbsp\;//&nbsp\;</em></span><em><a href="https://www.facebook.com/EnchantedForestFoods" style="box-sizing: border-box\; background-color: transparent\; text-decoration-line: none\; color: rgb(192\, 49\, 26)\;" target="_blank"><span style="color:#000000"><u>Enchanted Forest Foods</u></span></a></em><span style="color:#000000"><em>&nbsp\;//&nbsp\;</em></span><em><a href="https://www.facepunchfoods.com/" style="box-sizing: border-box\; background-color: transparent\; text-decoration-line: none\; color: rgb(192\, 49\, 26)\;" target="_blank"><span style="color:#000000"><u>Facepunch Foods</u></span></a></em><span style="color:#000000"><em>&nbsp\;//&nbsp\;</em></span><em><a href="https://www.facebook.com/harryshotsauce" style="box-sizing: border-box\; background-color: transparent\; text-decoration-line: none\; color: rgb(192\, 49\, 26)\;" target="_blank"><span style="color:#000000"><u>Harry&#39\;s Hot Sauce</u></span></a></em><span style="color:#000000"><em>&nbsp\;//&nbsp\;</em></span><em><a href="https://www.facebook.com/hellraisinghotsauce" style="box-sizing: border-box\; background-color: transparent\; text-decoration-line: none\; color: rgb(192\, 49\, 26)\;" target="_blank"><span style="color:#000000">Hellraising Hot Sauce</span></a></em><span style="color:#000000"><em>&nbsp\;//&nbsp\;</em></span><em><a href="https://www.facebook.com/LakeSuperiorSpiceCompany" style="box-sizing: border-box\; background-color: transparent\; text-decoration-line: none\; color: rgb(192\, 49\, 26)\;" target="_blank"><span style="color:#000000">Lake Superior Spice Co.</span></a></em><span style="color:#000000"><em>&nbsp\;//&nbsp\;</em></span><em><a href="https://www.facebook.com/lightfieldbbq" style="box-sizing: border-box\; background-color: transparent\; text-decoration-line: none\; color: rgb(192\, 49\, 26)\;" target="_blank"><span style="color:#000000">Lightfield BBQ</span></a></em><span style="color:#000000"><em>&nbsp\;//&nbsp\;</em></span><em><a href="https://www.facebook.com/logshotsauce" style="box-sizing: border-box\; background-color: transparent\; text-decoration-line: none\; color: rgb(192\, 49\, 26)\;" target="_blank"><span style="color:#000000">Log&#39\;s Hot Sauce</span></a><span style="color:#000000">&nbsp\;</span></em><span style="color:#000000"><em>//&nbsp\;</em></span><em><a href="https://lovejoysbrand.com/" style="box-sizing: border-box\; background-color: transparent\; text-decoration-line: none\; color: rgb(192\, 49\, 26)\;" target="_blank"><span style="color:#000000"><u>Lovejoy&#39\;s&nbsp\;Bloody Mary Mix</u></span></a></em><span style="color:#000000"><em>&nbsp\;//&nbsp\;</em></span><em><a href="https://www.luckyssauces.com/" style="box-sizing: border-box\; background-color: transparent\; text-decoration-line: none\; color: rgb(192\, 49\, 26)\;" target="_blank"><span style="color:#000000"><u>Lucky&#39\;s Sauces</u></span></a></em><span style="color:#000000"><em>&nbsp\;//&nbsp\;</em></span><em><a href="https://www.facebook.com/MissJennysHotSauce" style="box-sizing: border-box\; background-color: transparent\; text-decoration-line: none\; color: rgb(192\, 49\, 26)\;" target="_blank"><span style="color:#000000">Miss Jenny&#39\;s Hot Sauce</span></a></em><span style="color:#000000"><em>&nbsp\;//&nbsp\;</em></span><em><a href="https://www.facebook.com/nuancedhotsauce" style="box-sizing: border-box\; background-color: transparent\; text-decoration-line: none\; color: rgb(192\, 49\, 26)\;" target="_blank"><span style="color:#000000">Nuanced Hot Sauce</span></a></em><span style="color:#000000"><em>&nbsp\;//&nbsp\;</em></span><em><a href="https://www.facebook.com/offtypesauceandspice" style="box-sizing: border-box\; background-color: transparent\; text-decoration-line: none\; color: rgb(192\, 49\, 26)\;" target="_blank"><span style="color:#000000">Off Type Sauce &amp\; Spice</span></a></em><span style="color:#000000"><em>&nbsp\;//&nbsp\;</em></span><em><a href="https://www.facebook.com/profile.php?id=61560440677972" style="box-sizing: border-box\; background-color: transparent\; text-decoration-line: none\; color: rgb(192\, 49\, 26)\;" target="_blank"><span style="color:#000000">Red Eye Hot Sauce</span></a></em><span style="color:#000000"><em>&nbsp\;//&nbsp\;</em></span><em><a href="https://www.facebook.com/redghostfoods/" style="box-sizing: border-box\; background-color: transparent\; text-decoration-line: none\; color: rgb(192\, 49\, 26)\;" target="_blank"><span style="color:#000000">Red Ghost Foods</span></a></em><span style="color:#000000"><em>&nbsp\;//&nbsp\;</em></span><em><a href="https://www.facebook.com/profile.php?id=100079481800349" style="box-sizing: border-box\; background-color: transparent\; text-decoration-line: none\; color: rgb(192\, 49\, 26)\;" target="_blank"><span style="color:#000000"><u>River Bend Gardens</u></span></a></em><span style="color:#000000"><em>&nbsp\;//&nbsp\;</em></span><em><a href="https://www.facebook.com/salsalisafresh" style="box-sizing: border-box\; background-color: transparent\; text-decoration-line: none\; color: rgb(192\, 49\, 26)\;" target="_blank"><span style="color:#000000">Salsa Lisa</span></a></em><span style="color:#000000"><em>&nbsp\;//&nbsp\;</em></span><em><a href="https://www.facebook.com/metalchef88" style="box-sizing: border-box\; background-color: transparent\; text-decoration-line: none\; color: rgb(192\, 49\, 26)\;" target="_blank"><span style="color:#000000">Sam Sa&#39\;house Hot Sauce</span></a></em><span style="color:#000000"><em>&nbsp\;//&nbsp\;</em></span><em><a href="https://saucenorth.com/" style="box-sizing: border-box\; background-color: transparent\; text-decoration-line: none\; color: rgb(192\, 49\, 26)\;" target="_blank"><span style="color:#000000"><u>Sauce North</u></span></a></em><span style="color:#000000"><em>&nbsp\;//&nbsp\;</em></span><em><a href="https://www.instagram.com/sembossauce/?igshid=NGVhN2U2NjQ0Yg%3D%3D" style="box-sizing: border-box\; background-color: transparent\; text-decoration-line: none\; color: rgb(192\, 49\, 26)\;" target="_blank"><span style="color:#000000"><u>Sembo&#39\;s Sauce</u></span></a></em><span style="color:#000000"><em>&nbsp\;//&nbsp\;</em></span><em><a href="https://www.facebook.com/gopepperpeople" style="box-sizing: border-box\; background-color: transparent\; text-decoration-line: none\; color: rgb(192\, 49\, 26)\;" target="_blank"><span style="color:#000000">Treats by T</span></a></em><span style="color:#000000"><em>&nbsp\;//&nbsp\;</em></span></p>\n\n<p><span style="color:#000000"><u>Spicy Highlights of the Day!</u></span></p>\n\n<ul>\n	<li><span style="color:#000000"><em>Limited Edition Beer: Peppered Pineapple Blonde Ale</em></span></li>\n</ul>\n\n<ul>\n	<li><span style="color:#000000"><em>Featured Featured Pop-Ups&nbsp\;</em><em>(11 AM - 4 PM)</em></span><em><span style="color:#000000">&nbsp\;Smash Burgers by&nbsp\;</span><a href="https://www.facebook.com/thesalsacollaborative" style="box-sizing: border-box\; background-color: transparent\; text-decoration-line: none\; color: rgb(192\, 49\, 26)\;" target="_blank"><span style="color:#000000">The Salsa Collaborative</span></a><span style="color:#000000">&nbsp\;and Empanadas by&nbsp\;</span><a href="https://www.facebook.com/profile.php?id=61550677931038" style="box-sizing: border-box\; background-color: transparent\; text-decoration-line: none\; color: rgb(192\, 49\, 26)\;" target="_blank"><span style="color:#000000">Chow&eacute\; Empanadas</span></a></em></li>\n</ul>\n\n<ul>\n	<li><em><span style="color:#000000">Free Mini-Massages from&nbsp\;</span><a href="https://www.facebook.com/parkviewchiro" style="box-sizing: border-box\; background-color: transparent\; text-decoration-line: none\; color: rgb(192\, 49\, 26)\;" target="_blank"><span style="color:#000000">Parkview Chiropractic</span></a><span style="color:#000000">&nbsp\;</span></em><span style="color:#000000"><em>(1:30 - 4 PM)</em></span></li>\n</ul>\n\n<ul>\n	<li><em><span style="color:#000000">Featured Non-Profit:&nbsp\;</span><a href="https://www.facebook.com/PepperFest" style="box-sizing: border-box\; background-color: transparent\; text-decoration-line: none\; color: rgb(192\, 49\, 26)\;" target="_blank"><span style="color:#000000">North Hudson Pepper Festival</span></a></em></li>\n</ul>\n\n<ul>\n	<li><span style="color:#000000"><em>Music by&nbsp\;</em></span><em><a href="https://www.facebook.com/profile.php?id=100008303590332" style="box-sizing: border-box\; background-color: transparent\; text-decoration-line: none\; color: rgb(192\, 49\, 26)\;" target="_blank"><span style="color:#000000">Zeb Sears</span></a><span style="color:#000000">&nbsp\;from 4 - 7 PM</span></em><span style="color:#000000"><em>&nbsp\;</em></span></li>\n</ul>\n</div>\n</div>\n
LOCATION:1900 Tower Dr W\, Stillwater\, MN 55082\, USA
UID:e.257.38618
SEQUENCE:3
DTSTAMP:20260422T173708Z
URL:https://greaterstillwaterchamber.com/events/details/summer-craft-hot-sauce-fest-38618
END:VEVENT

END:VCALENDAR
