BEGIN:VCALENDAR
VERSION:2.0
PRODID:-//ChamberMaster//Event Calendar 2.0//EN
METHOD:PUBLISH
X-PUBLISHED-TTL:P3D
REFRESH-INTERVAL:P3D
CALSCALE:GREGORIAN
BEGIN:VEVENT
DTSTART:20240629T160000Z
DTEND:20240629T220000Z
X-MICROSOFT-CDO-ALLDAYEVENT:FALSE
SUMMARY:Summer Beertique Makers Market
DESCRIPTION:June 29\, 2024  11:00 am - 5:00 pm\n\nLift Bridge Brewing Company\, 1900 Tower Dr W\, Stillwater\, MN 55082\, USA\n\n\n\nLift Bridge is once again proud to host this makers event - showcasing amazing local talents and businesses! Get your shopping on at our Summer Beertique Makers Market on Saturday\, June 29\, 2024 from 11 AM - 5 PM.\n\nLift Bridge is always happy to help other Small Businesses\, Makers & Artisans - and it's a chance to enjoy some fantastic beers while you shop in our Brewhouse!\n\nEats provided by Wood Fired Pizza A Las Brasas: 11 AM - 7 PM \n\nFree Mini Massages provided by Parkview Chiropractic: 1:30- 5 PM\n\nMusic by Lars Carlson: 4 - 7 PM\n\nFeatured Artisans (in Alphabetical Order / Vendors subject to change):\n\nBlueSkys Soapery // Cat-Eyed Girl // Color Street // Custom Created by Bauer // Enchanted Forest Foods // Finding Freedom Treats // The Gathering Stones // KM Designery // LilyBelle HatCo. // Napping Crafter // Stillwater Soy Candle Co. // StyleXchange Thrift // Tammy's Treasures // Tastefully Simple
X-ALT-DESC;FMTTYPE=text/html:<p><span style="color:#000000">June 29\, 2024&nbsp\;&nbsp\;11:00 am&nbsp\;-&nbsp\;5:00 pm<br />\nLift Bridge Brewing Company\, 1900 Tower Dr W\, Stillwater\, MN 55082\, USA</span></p>\n\n<div>\n<div>\n<p><span style="color:#000000">Lift Bridge&nbsp\;is once again proud to host this&nbsp\;makers&nbsp\;event - showcasing&nbsp\;amazing&nbsp\;local talents and businesses! Get your shopping on at our&nbsp\;Summer Beertique Makers Market&nbsp\;on&nbsp\;Saturday\, June 29\, 2024 from 11 AM - 5 PM.</span></p>\n\n<p><span style="color:#000000">Lift Bridge&nbsp\;is always happy to help other&nbsp\;Small Businesses\, Makers &amp\; Artisans&nbsp\;- and it&#39\;s a chance to enjoy some&nbsp\;fantastic beers&nbsp\;while you shop in our&nbsp\;Brewhouse!</span></p>\n\n<p><span style="color:#000000">Eats&nbsp\;provided by&nbsp\;</span><a href="https://www.facebook.com/profile.php?id=61550193521399" style="box-sizing: border-box\; background-color: transparent\; text-decoration-line: none\; color: rgb(192\, 49\, 26)\;" target="_blank"><span style="color:#000000"><u>Wood Fired Pizza A Las Brasas</u></span></a><span style="color:#000000">: 11 AM - 7 PM&nbsp\;</span></p>\n\n<p><span style="color:#000000">Free Mini Massages&nbsp\;provided by&nbsp\;</span><a href="https://www.parkviewchiro.com/" style="box-sizing: border-box\; background-color: transparent\; text-decoration-line: none\; color: rgb(192\, 49\, 26)\;" target="_blank"><span style="color:#000000">Parkview Chiropractic</span></a><span style="color:#000000">:&nbsp\;1:30- 5 PM</span></p>\n\n<p><span style="color:#000000">Music&nbsp\;by&nbsp\;</span><a href="https://www.facebook.com/profile.php?id=100039129855194&amp\;mibextid=kFxxJD" style="box-sizing: border-box\; background-color: transparent\; text-decoration-line: none\; color: rgb(192\, 49\, 26)\;" target="_blank"><span style="color:#000000"><u>L</u>ars Carlson</span></a><span style="color:#000000">: 4 - 7 PM</span></p>\n\n<p><span style="color:#000000">Featured Artisans&nbsp\;<em>(in Alphabetical Order / Vendors subject to change)</em>:</span><br />\n<em><a href="https://www.facebook.com/BlueSkysSoapery" style="box-sizing: border-box\; background-color: transparent\; text-decoration-line: none\; color: rgb(192\, 49\, 26)\;" target="_blank"><span style="color:#000000">BlueSkys Soapery</span></a><span style="color:#000000">&nbsp\;//&nbsp\;</span><a href="https://www.instagram.com/cateyedgirlmpls/" style="box-sizing: border-box\; background-color: transparent\; text-decoration-line: none\; color: rgb(192\, 49\, 26)\;" target="_blank"><span style="color:#000000">Cat-Eyed Girl</span></a><span style="color:#000000">&nbsp\;//&nbsp\;</span><a href="https://www.colorstreet.com/26373/products" style="box-sizing: border-box\; background-color: transparent\; text-decoration-line: none\; color: rgb(192\, 49\, 26)\;" target="_blank"><span style="color:#000000">Color Street</span></a><span style="color:#000000">&nbsp\;//&nbsp\;</span><a href="https://www.facebook.com/profile.php?id=100090177501755&amp\;mibextid=qi2Omg" style="box-sizing: border-box\; background-color: transparent\; text-decoration-line: none\; color: rgb(192\, 49\, 26)\;" target="_blank"><span style="color:#000000">Custom Created by Bauer</span></a><span style="color:#000000">&nbsp\;//&nbsp\;</span><a href="https://www.facebook.com/EnchantedForestFoods" style="box-sizing: border-box\; background-color: transparent\; text-decoration-line: none\; color: rgb(192\, 49\, 26)\;" target="_blank"><span style="color:#000000">Enchanted Forest Foods</span></a><span style="color:#000000">&nbsp\;//&nbsp\;</span><a href="https://www.etsy.com/shop/findingfreedomtreats/?etsrc=sdt" style="box-sizing: border-box\; background-color: transparent\; text-decoration-line: none\; color: rgb(192\, 49\, 26)\;" target="_blank"><span style="color:#000000">Finding Freedom Treats</span></a><a href="https://www.hinterland-goods.com/" style="box-sizing: border-box\; background-color: transparent\; text-decoration-line: none\; color: rgb(192\, 49\, 26)\;" target="_blank"><span style="color:#000000">&nbsp\;</span></a><span style="color:#000000">//&nbsp\;</span><a href="https://thegatheringstones.com/" style="box-sizing: border-box\; background-color: transparent\; text-decoration-line: none\; color: rgb(192\, 49\, 26)\;" target="_blank"><span style="color:#000000">The Gathering Stones</span></a><span style="color:#000000">&nbsp\;//&nbsp\;</span><a href="https://kmdesignery.com/" style="box-sizing: border-box\; background-color: transparent\; text-decoration-line: none\; color: rgb(192\, 49\, 26)\;" target="_blank"><span style="color:#000000">KM Designery</span></a><span style="color:#000000">&nbsp\;//&nbsp\;</span><a href="https://www.facebook.com/profile.php?id=61559773103470" style="box-sizing: border-box\; background-color: transparent\; text-decoration-line: none\; color: rgb(192\, 49\, 26)\;"><span style="color:#000000">LilyBelle HatCo.</span></a><span style="color:#000000">&nbsp\;//&nbsp\;</span><a href="https://www.facebook.com/profile.php?id=100085364124929" style="box-sizing: border-box\; background-color: transparent\; text-decoration-line: none\; color: rgb(192\, 49\, 26)\;" target="_blank"><span style="color:#000000">Napping Crafter</span></a><span style="color:#000000">&nbsp\;//&nbsp\;</span><a href="https://www.facebook.com/stillwatersoycandle" style="box-sizing: border-box\; background-color: transparent\; text-decoration-line: none\; color: rgb(192\, 49\, 26)\;" target="_blank"><span style="color:#000000">Stillwater Soy Candle Co.</span></a><span style="color:#000000">&nbsp\;//&nbsp\;</span><a href="https://valleyoutreachmn.org/stylexchange-thrift/" style="box-sizing: border-box\; background-color: transparent\; text-decoration-line: none\; color: rgb(192\, 49\, 26)\;" target="_blank"><span style="color:#000000">StyleXchange Thrift&nbsp\;</span></a><span style="color:#000000">// Tammy&#39\;s Treasures //&nbsp\;</span><a href="https://www.tastefullysimple.com/web/sakey" style="box-sizing: border-box\; background-color: transparent\; text-decoration-line: none\; color: rgb(192\, 49\, 26)\;" target="_blank"><span style="color:#000000">Tastefully Simple</span></a></em></p>\n\n<div>&nbsp\;</div>\n</div>\n</div>\n
LOCATION:1900 Tower Dr W\, Stillwater\, MN 55082\, USA
UID:e.257.38617
SEQUENCE:3
DTSTAMP:20260422T161045Z
URL:https://greaterstillwaterchamber.com/events/details/summer-beertique-makers-market-38617
END:VEVENT

END:VCALENDAR
