BEGIN:VCALENDAR
VERSION:2.0
PRODID:-//ChamberMaster//Event Calendar 2.0//EN
METHOD:PUBLISH
X-PUBLISHED-TTL:P3D
REFRESH-INTERVAL:P3D
CALSCALE:GREGORIAN
BEGIN:VEVENT
DTSTART:20240518T140000Z
DTEND:20240518T153000Z
X-MICROSOFT-CDO-ALLDAYEVENT:FALSE
SUMMARY:Stillwater Trails - Rules and Etiquette - May 2024
DESCRIPTION:Everyone loves the Stillwater trails and more people are using the trails. These trails are considered "multi-use" though so many people can use the trails differently (walking\, biking\, e-bikes\, dog-walking\, etc.) This class is for EVERYONE who uses the trails. Learn what the MN laws are for trails\, and learn all of the basic rules and etiquette for sharing the trails. These rules are intended so everyone can be safe and comfortable on the trails.
X-ALT-DESC;FMTTYPE=text/html:Everyone loves the Stillwater trails and more people are using the trails. These trails are considered &quot\;multi-use&quot\; though so many people can use the trails differently (walking\, biking\, e-bikes\, dog-walking\, etc.) This class is for EVERYONE who uses the trails. Learn what the MN laws are for trails\, and learn all of the basic rules and etiquette for sharing the trails. These rules are intended so everyone can be safe and comfortable on the trails.
LOCATION:Pedego Electric Bikes\, 1650 Market Dr\, Stillwater\, MN 55082\, USA
UID:e.257.37210
SEQUENCE:3
DTSTAMP:20260422T145202Z
URL:https://greaterstillwaterchamber.com/events/details/stillwater-trails-rules-and-etiquette-may-2024-37210
END:VEVENT

END:VCALENDAR
