BEGIN:VCALENDAR
VERSION:2.0
PRODID:-//ChamberMaster//Event Calendar 2.0//EN
METHOD:PUBLISH
X-PUBLISHED-TTL:P3D
REFRESH-INTERVAL:P3D
CALSCALE:GREGORIAN
BEGIN:VEVENT
DTSTART;VALUE=DATE:20200128
DTEND;VALUE=DATE:20200129
TRANSP:TRANSPARENT
X-MICROSOFT-CDO-ALLDAYEVENT:TRUE
SUMMARY:Stillwater Sunrise Rotary
DESCRIPTION:Buff Grace with Minnesota Interfaith Power &Light will be speaking on Solar Power
X-ALT-DESC;FMTTYPE=text/html:Buff Grace with Minnesota Interfaith Power &amp\;Light will be speaking on Solar Power
LOCATION:Lowell Inn\, Stillwater
UID:e.257.30399
SEQUENCE:3
DTSTAMP:20260422T043249Z
URL:https://greaterstillwaterchamber.com/events/details/stillwater-sunrise-rotary-30399
END:VEVENT

END:VCALENDAR
