BEGIN:VCALENDAR
VERSION:2.0
PRODID:-//ChamberMaster//Event Calendar 2.0//EN
METHOD:PUBLISH
X-PUBLISHED-TTL:P3D
REFRESH-INTERVAL:P3D
CALSCALE:GREGORIAN
BEGIN:VEVENT
DTSTART:20240504T140000Z
DTEND:20240504T160000Z
X-MICROSOFT-CDO-ALLDAYEVENT:FALSE
SUMMARY:Stillwater Raingarden Clean-Up
DESCRIPTION:Join us for a fulfilling morning of environmental stewardship and community engagement with Washington Conservation District and Sustainable Stillwater MN. Happening on May 4th\, 2024\, from 9 AM to 11 AM\, this initiative invites residents to come together at Washington Square Park for a meaningful endeavor. Raingardens play a vital role in managing stormwater runoff and protecting the health of our local waterways such as the St. Croix River and our lakes. By participating in this cleanup effort\, you'll not only contribute to the preservation of our environment but also help ensure these rain gardens can continue functioning properly. This event is not just about cleaning up\; it's also an opportunity to connect with your neighbors and strengthen the fabric of our community. Before we break off into teams to tackle rain gardens in the surrounding neighborhoods\, we'll gather at the Pavilion at Washington Square Park for refreshments and camaraderie. Don't worry if you're unfamiliar with rain garden maintenance necessary training will be provided. However\, if you have any of the following tools\, please bring them along: gloves\, rake/broom/shovel\, trowel/weeding tool\, dustpan\, and a water bottle. Join us on May 4th as we come together to make a tangible difference in our environment while building lasting connections within our community. Together\, let's ensure a cleaner\, healthier future for Stillwater and its surrounding areas.
X-ALT-DESC;FMTTYPE=text/html:Join us for a fulfilling morning of environmental stewardship and community engagement with Washington Conservation District and Sustainable Stillwater MN. Happening on May 4th\, 2024\, from 9 AM to 11 AM\, this initiative invites residents to come together at Washington Square Park for a meaningful endeavor. Raingardens play a vital role in managing stormwater runoff and protecting the health of our local waterways such as the St. Croix River and our lakes. By participating in this cleanup effort\, you&#39\;ll not only contribute to the preservation of our environment but also help ensure these rain gardens can continue functioning properly. This event is not just about cleaning up\; it&#39\;s also an opportunity to connect with your neighbors and strengthen the fabric of our community. Before we break off into teams to tackle rain gardens in the surrounding neighborhoods\, we&#39\;ll gather at the Pavilion at Washington Square Park for refreshments and camaraderie. Don&#39\;t worry if you&#39\;re unfamiliar with rain garden maintenance&mdash\;necessary training will be provided. However\, if you have any of the following tools\, please bring them along: gloves\, rake/broom/shovel\, trowel/weeding tool\, dustpan\, and a water bottle. Join us on May 4th as we come together to make a tangible difference in our environment while building lasting connections within our community. Together\, let&#39\;s ensure a cleaner\, healthier future for Stillwater and its surrounding areas.
LOCATION:Washington Square Park\, 915 Abbott St W\, Stillwater\, MN 55082\, USA
UID:e.257.37178
SEQUENCE:3
DTSTAMP:20260422T144533Z
URL:https://greaterstillwaterchamber.com/events/details/stillwater-raingarden-clean-up-37178
END:VEVENT

END:VCALENDAR
