BEGIN:VCALENDAR
VERSION:2.0
PRODID:-//ChamberMaster//Event Calendar 2.0//EN
METHOD:PUBLISH
X-PUBLISHED-TTL:P3D
REFRESH-INTERVAL:P3D
CALSCALE:GREGORIAN
BEGIN:VEVENT
DTSTART:20230219T150000Z
DTEND:20230219T210000Z
X-MICROSOFT-CDO-ALLDAYEVENT:FALSE
SUMMARY:Stillwater Fat Bike Rally
DESCRIPTION:For a detailed description\, check out the Registration Page: www.BikeReg.com/stillwater_fat_bike_rally
X-ALT-DESC;FMTTYPE=text/html:For a detailed description\, check out the Registration Page: www.BikeReg.com/stillwater_fat_bike_rally
LOCATION:River Siren Brewing
UID:e.257.35832
SEQUENCE:3
DTSTAMP:20260423T142205Z
URL:https://greaterstillwaterchamber.com/events/details/stillwater-fat-bike-rally-35832
END:VEVENT

END:VCALENDAR
