BEGIN:VCALENDAR
VERSION:2.0
PRODID:-//ChamberMaster//Event Calendar 2.0//EN
METHOD:PUBLISH
X-PUBLISHED-TTL:P3D
REFRESH-INTERVAL:P3D
CALSCALE:GREGORIAN
BEGIN:VEVENT
DTSTART:20241211T220000Z
DTEND:20241216T030000Z
X-MICROSOFT-CDO-ALLDAYEVENT:FALSE
SUMMARY:Still Hope
DESCRIPTION:Still Hope will bring people to together during the holiday season to celebrate\, support\, and connect with each other   to foster the power of community to instill lasting and actionable hope.\n\nFor 10 days within the transformed space of the former train depot and Zephyr theater\, Still Hope 2024 is a free community event with musical performances by numerous individuals and groups and featuring Stillwater and St. Croix Valley non-profits\, artists\, and vendors in holiday market setting.\n\n \n\nNestled in the heart of Stillwater\, Still Hope emerges as a beacon of warmth and connection during the enchanting winter season December 11th-15th\, 17th and 19th-22nd\, 2024\, at 601 Main Street North.\n\nSee schedule and details!\n\nStep into Stillwater's brightest holiday celebration! Still Hope MN 2024 is here to bring together families\, art lovers\, and community supporters   where creativity meets community in a vibrant\, reimagined space!
X-ALT-DESC;FMTTYPE=text/html:<p><span style="font-size:16px\;">Still Hope will bring people to together during the holiday season to celebrate\, support\, and connect with each other &ndash\; to foster the power of community to instill lasting and actionable hope.</span></p>\n\n<p><span style="font-size:16px\;">For 10&nbsp\;days within the transformed space of the former train depot and Zephyr theater\, Still Hope 2024 is a free community event with musical performances by numerous individuals and groups and featuring Stillwater and St. Croix Valley non-profits\, artists\, and vendors in holiday market setting.</span></p>\n\n<p>&nbsp\;</p>\n\n<p><span style="font-size:16px\;">Nestled in the heart of Stillwater\, Still Hope emerges as a beacon of warmth and connection during the enchanting winter season December 11th-15th\, 17th and 19th-22nd\, 2024\, at&nbsp\;<a href="https://www.google.com/maps/search/601+Main+Street+North?entry=gmail&amp\;source=g">601 Main Street North</a>.<br />\n<a href="https://stillhopemn.org/about/" target="_blank">See schedule and details!</a><br />\nStep into Stillwater&rsquo\;s brightest holiday celebration! Still Hope MN 2024 is here to bring together families\, art lovers\, and community supporters &mdash\; where creativity meets community in a vibrant\, reimagined space!</span></p>\n
LOCATION:601 Main Street N. Stillwater\, MN
UID:e.257.42345
SEQUENCE:3
DTSTAMP:20260422T172939Z
URL:https://greaterstillwaterchamber.com/events/details/still-hope-42345
END:VEVENT

END:VCALENDAR
