BEGIN:VCALENDAR
VERSION:2.0
PRODID:-//ChamberMaster//Event Calendar 2.0//EN
METHOD:PUBLISH
X-PUBLISHED-TTL:P3D
REFRESH-INTERVAL:P3D
CALSCALE:GREGORIAN
BEGIN:VEVENT
DTSTART:20250517T000000Z
DTEND:20250517T023000Z
X-MICROSOFT-CDO-ALLDAYEVENT:FALSE
SUMMARY:Stand-Up Comedy Night with Chris Maddock + Friends
DESCRIPTION:Welcome to Stand-Up Comedy Night with Chris Maddock + Friends! Get ready for a night of laughter and fun at Lift Bridge Brewing Stillwater sponsored by Facepunch Foods.\n\nJoin us for a hilarious evening filled with top-notch comedians\, including the talented Chris Maddock. Non-stop entertainment and plenty of laughs to go around! Don't miss out on this fantastic opportunity to unwind\, relax\, and enjoy some quality stand-up comedy. Grab your friends and come on down to the Brewery for a night you won't forget!\n\n     **This is a ticketed event**\n\n\n\nPRE-SALE Tickets: https://www.eventbrite.com/e/stand-up-comedy-night-with-chris-maddock-friends-tickets-1308630642479?aff=oddtdtcreator&utm-source=cp&utm-campaign=social&utm-content=attendeeshare&utm-medium=discovery&utm-term=listing\n\n\n\nSave some dough with Early Bird Tickets for only $15 (includes a Beverage Token) through Thursday\, May 15 \n\nTICKETS at the DOOR\n\nTickets (includes a Beverage Token) will be available for $20.\n\nSCHEDULE OF EVENTS:\n\n  7:00 PM\n\n\n	  Doors & Back Bar Open\n	  Snacks & Sauce Available from Facepunch Foods\n\n\n  8:00 - 9:30 PM\n\n\n	  Stand-Up Comedy Night with Chris Maddock + Friends:\n\n\n                  Aidan Thibault // Lily Meyer // Phil Kolas // James Stanley //\n\n                       ~ intermission ~\n\n                  Linda Aarons // Chris Maddock\n\nFOOD TRUCK\n\n\n	The Rusty Kettle (4 - 8 PM)\n\n\nInterested in being a Sponsor at future events? Email Events@LiftBridgeBrewery.com
X-ALT-DESC;FMTTYPE=text/html:<p>Welcome to&nbsp\;Stand-Up Comedy Night with&nbsp\;<a href="https://www.facebook.com/thechrismaddock" style="box-sizing: border-box\; background-color: transparent\; text-decoration-line: none\; color: rgb(192\, 49\, 26)\;" target="_blank">Chris Maddock</a>&nbsp\;+ Friends!&nbsp\;Get ready for a night of&nbsp\;laughter and fun&nbsp\;at Lift Bridge Brewing Stillwater sponsored by&nbsp\;Facepunch Foods.</p>\n\n<p>Join us for a&nbsp\;hilarious evening&nbsp\;filled with&nbsp\;top-notch comedians\,&nbsp\;including the&nbsp\;<u>talented</u>&nbsp\;Chris Maddock.&nbsp\;Non-stop entertainment&nbsp\;and&nbsp\;plenty of laughs to go around!&nbsp\;Don&#39\;t miss out on this fantastic opportunity to&nbsp\;<u>unwind\, relax\, and enjoy some quality stand-up comedy</u>.&nbsp\;Grab your friends&nbsp\;and&nbsp\;come on down to the Brewery&nbsp\;for a night you won&#39\;t forget!</p>\n\n<p><em>&nbsp\; &nbsp\; &nbsp\;**This is a ticketed event**</em><br />\n<br />\n<a href="https://www.eventbrite.com/e/chris-maddock-friends-stand-up-comedy-night-tickets-1308630642479?utm-campaign=social&amp\;utm-content=attendeeshare&amp\;utm-medium=discovery&amp\;utm-term=listing&amp\;utm-source=cp&amp\;aff=ebdsshcopyurl" style="box-sizing: border-box\; background-color: transparent\; text-decoration-line: none\; color: rgb(192\, 49\, 26)\;" target="_blank">PRE-SALE Tickets:&nbsp\;</a>https://www.eventbrite.com/e/stand-up-comedy-night-with-chris-maddock-friends-tickets-1308630642479?aff=oddtdtcreator&amp\;utm-source=cp&amp\;utm-campaign=social&amp\;utm-content=attendeeshare&amp\;utm-medium=discovery&amp\;utm-term=listing<br />\n<br />\nSave some dough with&nbsp\;<u>Early Bird Tickets&nbsp\;</u><u>for only $15</u>&nbsp\;<em>(includes a Beverage Token)&nbsp\;</em>through&nbsp\;Thursday\, May 15&nbsp\;</p>\n\n<p><u>TICKETS at the DOOR</u><br />\nTickets&nbsp\;<em>(includes a Beverage Token)</em>&nbsp\;will be available for&nbsp\;$20.</p>\n\n<p><u>SCHEDULE OF EVENTS</u>:<br />\n&nbsp\; 7:00 PM</p>\n\n<ul>\n	<li><span style="font-family:-apple-system\,system-ui\,segoe ui\,roboto\,helvetica neue\,arial\,noto sans\,sans-serif\,apple color emoji\,segoe ui emoji\,segoe ui symbol\,noto color emoji\; font-size:12.6px">&nbsp\; Doors &amp\; Back Bar Open</span></li>\n	<li><span style="font-family:-apple-system\,system-ui\,segoe ui\,roboto\,helvetica neue\,arial\,noto sans\,sans-serif\,apple color emoji\,segoe ui emoji\,segoe ui symbol\,noto color emoji\; font-size:12.6px">&nbsp\; Snacks &amp\; Sauce Available from&nbsp\;<a href="https://www.facepunchfoods.com/" style="box-sizing: border-box\; background-color: transparent\; text-decoration-line: none\; color: rgb(192\, 49\, 26)\;" target="_blank">Facepunch Foods</a></span></li>\n</ul>\n\n<p>&nbsp\; 8:00 - 9:30 PM</p>\n\n<ul>\n	<li><span style="font-family:-apple-system\,system-ui\,segoe ui\,roboto\,helvetica neue\,arial\,noto sans\,sans-serif\,apple color emoji\,segoe ui emoji\,segoe ui symbol\,noto color emoji\; font-size:12.6px">&nbsp\; Stand-Up Comedy&nbsp\;Night with&nbsp\;<a href="https://www.chrismaddock.com/" style="box-sizing: border-box\; background-color: transparent\; text-decoration-line: none\; color: rgb(192\, 49\, 26)\;" target="_blank">Chris Maddock</a>&nbsp\;+ Friends:</span></li>\n</ul>\n\n<p><em>&nbsp\; &nbsp\; &nbsp\; &nbsp\; &nbsp\; &nbsp\; &nbsp\; &nbsp\; &nbsp\;&nbsp\;Aidan Thibault // Lily Meyer // Phil Kolas // James Stanley //</em><br />\n<em>&nbsp\; &nbsp\; &nbsp\; &nbsp\; &nbsp\; &nbsp\; &nbsp\; &nbsp\; &nbsp\;&nbsp\;&nbsp\; &nbsp\; &nbsp\;~ intermission ~</em><br />\n<em>&nbsp\; &nbsp\; &nbsp\; &nbsp\; &nbsp\; &nbsp\; &nbsp\; &nbsp\; &nbsp\; Linda Aarons // Chris Maddock</em></p>\n\n<p><u>FOOD TRUCK</u></p>\n\n<ul>\n	<li><a href="https://www.facebook.com/profile.php?id=100067117861630" style="box-sizing: border-box\; background-color: transparent\; text-decoration-line: none\; color: rgb(192\, 49\, 26)\;" target="_blank"><u>The Rusty Kettle</u></a><em>&nbsp\;(4 - 8 PM)</em></li>\n</ul>\n\n<p><em>Interested in being a Sponsor at future events? Email&nbsp\;<a href="mailto:Events@LiftBridgeBrewery.com" style="box-sizing: border-box\; background-color: transparent\; text-decoration-line: none\; color: rgb(192\, 49\, 26)\;" target="_blank"><u>Events@LiftBridgeBrewery.com</u></a></em></p>\n
LOCATION:Lift Bridge Brewery\, 1900 Tower Drive\, Stillwater\, MN 55082
UID:e.257.43382
SEQUENCE:3
DTSTAMP:20260422T073310Z
URL:https://greaterstillwaterchamber.com/events/details/stand-up-comedy-night-with-chris-maddock-friends-43382
END:VEVENT

END:VCALENDAR
