BEGIN:VCALENDAR
VERSION:2.0
PRODID:-//ChamberMaster//Event Calendar 2.0//EN
METHOD:PUBLISH
X-PUBLISHED-TTL:P3D
REFRESH-INTERVAL:P3D
CALSCALE:GREGORIAN
BEGIN:VEVENT
DTSTART:20240711T220000Z
DTEND:20240712T023000Z
X-MICROSOFT-CDO-ALLDAYEVENT:FALSE
SUMMARY:St. Croix Soccer Club: 40th Anniversary Party
DESCRIPTION:We invite you to spend an evening celebrating the past 40 years of St. Croix Soccer with us. The event will include heavy appetizers\, dessert\, a bar\, short presentation\, and reconnecting with past coaches and teammates\, and meeting new community members! \n\nYour ticket includes:\n\n\n	admission\n	heavy appetizers\n	dessert\n	drink ticket\n	raffle ticket\n\n\nDress code: Business Casual\n\n*40th Party ticket fees cover facilities\, food\, drink and raffle ticket. Remaining funds from the party will be used to establish a sustainable Fee Assistance Fund for future athletes in need\, and/or improving fields and playing facilities.
X-ALT-DESC;FMTTYPE=text/html:<p>We invite you to spend an evening celebrating the past&nbsp\;<strong>40 years of St. Croix Soccer&nbsp\;</strong>with us. The event will include heavy appetizers\, dessert\, a bar\, short presentation\, and reconnecting with past coaches and teammates\, and meeting new community members!&nbsp\;</p>\n\n<p>Your ticket includes:</p>\n\n<ul>\n	<li>admission</li>\n	<li>heavy appetizers</li>\n	<li>dessert</li>\n	<li>drink ticket</li>\n	<li>raffle ticket</li>\n</ul>\n\n<p>Dress code: Business Casual</p>\n\n<p>*40th Party ticket&nbsp\;fees cover facilities\, food\, drink and raffle ticket. Remaining funds from the party will be used to establish a sustainable Fee Assistance Fund for future athletes in need\, and/or improving fields and playing facilities.</p>\n
LOCATION:The Loft: 214 S Main St\, Stillwater\, MN 55082\, USA
UID:e.257.37790
SEQUENCE:3
DTSTAMP:20260422T101334Z
URL:https://greaterstillwaterchamber.com/events/details/st-croix-soccer-club-40th-anniversary-party-37790
END:VEVENT

END:VCALENDAR
