BEGIN:VCALENDAR
VERSION:2.0
PRODID:-//ChamberMaster//Event Calendar 2.0//EN
METHOD:PUBLISH
X-PUBLISHED-TTL:P3D
REFRESH-INTERVAL:P3D
CALSCALE:GREGORIAN
BEGIN:VEVENT
DTSTART;VALUE=DATE:20240531
DTEND;VALUE=DATE:20240603
TRANSP:TRANSPARENT
X-MICROSOFT-CDO-ALLDAYEVENT:TRUE
SUMMARY:St Croix Cup
DESCRIPTION:The 20th Annual St. Croix Cup Soccer Tournament will be held May 31st - June 2nd\, hosted at the Lucy Winton Bell Athletic Fields\, in the heart of the scenic St. Croix Valley.\n\n\n\nInterested in getting involved as a Sponsor\, Volunteer or just watching some great soccer reach out to admin@stcroixsoccer.org or tournament@stcroixsoccer.org\n\n\n\nLearn more here    https://www.stcroixcup.org/
X-ALT-DESC;FMTTYPE=text/html:<p>The 20th Annual St. Croix Cup Soccer Tournament will be held May 31st - June 2nd\, hosted at the Lucy Winton Bell Athletic Fields\, in the heart of the scenic St. Croix Valley.<br />\n<br />\nInterested in getting involved as a Sponsor\, Volunteer or just watching some great soccer reach out to <a href="mailto:admin@stcroixsoccer.org" target="_blank">admin@stcroixsoccer.org</a>&nbsp\;or&nbsp\;<a href="mailto:tournament@stcroixsoccer.org">tournament@stcroixsoccer.org</a><br />\n<br />\nLearn more here &gt\;&gt\; <a href="https://www.stcroixcup.org/" target="_blank">https://www.stcroixcup.org/</a></p>\n
LOCATION:Lucy Winton Bell Athletic Fields 15601 Hudson Road Lakeland\, MN 55043
UID:e.257.37161
SEQUENCE:3
DTSTAMP:20260422T144423Z
URL:https://greaterstillwaterchamber.com/events/details/st-croix-cup-37161
END:VEVENT

END:VCALENDAR
