BEGIN:VCALENDAR
VERSION:2.0
PRODID:-//ChamberMaster//Event Calendar 2.0//EN
METHOD:PUBLISH
X-PUBLISHED-TTL:P3D
REFRESH-INTERVAL:P3D
CALSCALE:GREGORIAN
BEGIN:VEVENT
DTSTART:20250508T000000Z
DTEND:20250508T013000Z
X-MICROSOFT-CDO-ALLDAYEVENT:FALSE
SUMMARY:Spring Cocktail Class
DESCRIPTION:Shake up your Wednesday night at our Spring Cocktail Class\, led by our master mixer Curtis. You'll craft three signature spring cocktails all served in classy coupe glasses while learning pro-level tips in a cozy\, stylish setting inside our neighbor\, My Empty Nest. Enjoy light hors d'oeuvres\, plus a special gift: A cocktail shaker to take home\, courtesy of My Empty Nest because your new mixology skills deserve some shiny hardware. All-inclusive ticket   includes cocktails\, food\, your shaker\, tax\, and gratuity.
X-ALT-DESC;FMTTYPE=text/html:Shake up your Wednesday night at our Spring Cocktail Class\, led by our master mixer Curtis. You&rsquo\;ll craft three signature spring cocktails&mdash\;all served in classy coupe glasses&mdash\;while learning pro-level tips in a cozy\, stylish setting inside our neighbor\, My Empty Nest. Enjoy light hors d&rsquo\;oeuvres\, plus a special gift: A cocktail shaker to take home\, courtesy of My Empty Nest&mdash\;because your new mixology skills deserve some shiny hardware. All-inclusive ticket &ndash\; includes cocktails\, food\, your shaker\, tax\, and gratuity.
LOCATION:3476 Lake Elmo Ave N\, Lake Elmo\, MN 55042
UID:e.257.43238
SEQUENCE:3
DTSTAMP:20260422T102216Z
URL:https://greaterstillwaterchamber.com/events/details/spring-cocktail-class-43238
END:VEVENT

END:VCALENDAR
