BEGIN:VCALENDAR
VERSION:2.0
PRODID:-//ChamberMaster//Event Calendar 2.0//EN
METHOD:PUBLISH
X-PUBLISHED-TTL:P3D
REFRESH-INTERVAL:P3D
CALSCALE:GREGORIAN
BEGIN:VEVENT
DTSTART:20240606T230000Z
DTEND:20240607T013000Z
X-MICROSOFT-CDO-ALLDAYEVENT:FALSE
SUMMARY:Speed Dating For 40-50ish year olds
DESCRIPTION:ATTENTION SINGLES 40-50ish!\n\nHAVE FUN WITH DATING AT OUR IN-PERSON. SPEED DATING EVENTS!\n\nLooking for love in all the lumberjack places? Join us for our speed "axing" event\, where you can find your timber-loving soulmate while perfecting your axe-throwing skills!\n\nWho knows\, you might just hit the bullseye with Cupid's arrow and maybe a real one too! Get ready to swipe right... and then throw left!\n\nHave you been frustrated with the dating scene?  Spending time and energy texting people only to get tuned out or ghosted?  Or\, even worse\, you go out on a date and the other person has totally misrepresented themselves? It all seems like too much of a hassle.\n\nI hear you!  That's why we are hosting these in-person speed dating events.  You get to meet and get the vibe of up to 11 quality candidates\, have a short conversation with them\, and see if it is worth having a second conversation.  Free of pressure and easier than internet dating. \n\nYou get to be relaxed knowing you are in a safe\, monitored\, public environment.  You won't even have to share contact information with anyone the night of.  You get to indicate if you are interested in chatting with a person again  or not.  If both people say yes\, you will receive your match(es) the next day via email.  If not\, you've still met other great people while saving yourself SO much time replying to false messages that go nowhere. \n\n \n\nAND\, For even more fun\, you get to stick around after the event for Speed Axing (axe throwing). We know people want to have additional conversations with others they have met\, knowing that five minutes of chatting just wasn't enough!\n\nWE WILL DRAW FOUR PAIRS OF INDIVIDUALS WHO HAVE CHOSEN TO CONNECT WITH EACH OTHER TO DO AXE THROWING IMMEDIATELY AFTER THE EVENT! STICK AROUND IF YOU WISH TO PARTICIPATE.\n\n\n\nRegistration a MUST at https://unifiedmind.info/speedaxing  Participants will be accepted in order of registration and will be immediately put on a wait list to ensure we have an equal number of men and women\n\nEvent is co-hosted by Dawn Bennett of Unified Mind and Mandee Puente of Stay In Stillwater
X-ALT-DESC;FMTTYPE=text/html:<h2 style="text-align:center"><span style="font-size:14px"><strong>ATTENTION SINGLES 40-50ish!</strong></span></h2>\n\n<h2 style="text-align:center"><span style="font-size:14px"><strong>HAVE FUN WITH DATING AT OUR&nbsp\;</strong></span><strong>IN-PERSON.&nbsp\;</strong><strong>SPEED DATING EVENTS!</strong></h2>\n\n<p><span style="font-size:12px">Looking for love in all the lumberjack places? Join us for our speed &quot\;axing&quot\; event\, where you can find your timber-loving soulmate while perfecting your axe-throwing skills!</span></p>\n\n<p style="margin-left:unset\; margin-right:unset"><span style="font-size:12px">Who knows\, you might just hit the bullseye with Cupid&#39\;s arrow&mdash\;and maybe a real one too! Get ready to swipe right... and then throw left!</span></p>\n\n<p><span style="font-size:12px">Have you been frustrated with the dating scene?&nbsp\; Spending time and energy texting people only to get tuned out or ghosted?&nbsp\; Or\, even worse\, you go out on a date and the other person has totally misrepresented themselves? It all seems like too much of a hassle.</span></p>\n\n<p style="margin-left:unset\; margin-right:unset"><span style="font-size:12px">I hear you!&nbsp\; That&rsquo\;s why we are hosting these&nbsp\;<strong>in-person speed dating events</strong>.&nbsp\; You get to meet and get the vibe of up to 11 quality candidates\, have a short conversation with them\, and see if it is worth having a second conversation.&nbsp\; Free of pressure and easier than internet dating.&nbsp\;</span></p>\n\n<p style="margin-left:unset\; margin-right:unset"><span style="font-size:12px">You get to be relaxed knowing you are in a safe\, monitored\, public environment.&nbsp\; You won&rsquo\;t even have to share contact information with anyone the night of.&nbsp\; You get to indicate if you are interested in chatting with a person again&hellip\; or not.&nbsp\; If both people say yes\, you will receive your match(es) the next day via email.&nbsp\; If not\, you&rsquo\;ve still met other great people while saving yourself SO much time replying to false messages that go nowhere.&nbsp\;</span></p>\n\n<p style="margin-left:unset\; margin-right:unset">&nbsp\;</p>\n\n<p style="margin-left:unset\; margin-right:unset"><span style="font-size:12px">AND\, For even more fun\, you get to stick around after the event for Speed Axing (axe throwing). We know people want to have additional conversations with others they have met\, knowing that five minutes of chatting just wasn&#39\;t enough!</span></p>\n\n<p style="margin-left:unset\; margin-right:unset"><span style="font-size:12px"><strong>WE WILL DRAW FOUR PAIRS OF INDIVIDUALS WHO HAVE CHOSEN TO CONNECT WITH EACH OTHER TO DO AXE THROWING IMMEDIATELY AFTER THE EVENT! STICK AROUND IF YOU WISH TO PARTICIPATE.<br />\n<br />\nRegistration a MUST at<u>&nbsp\;https://unifiedmind.info/speedaxing</u></strong>&nbsp\; <span style="color:rgb(0\, 0\, 0)\; font-family:open sans">Participants will be accepted in order of registration and will be immediately put on a wait list to ensure we have an equal number of men and women</span></span></p>\n\n<p style="margin-left:unset\; margin-right:unset"><em>Event is co-hosted by Dawn Bennett of Unified Mind and Mandee Puente of&nbsp\;</em><a href="http://www.stayinstillwater.com/" rel="noopener noreferrer" style="box-sizing: border-box\; text-decoration-line: none\; color: var(--link-color) !important\;" target="_blank"><em>Stay In Stillwater</em></a></p>\n
LOCATION:Location to be given upon acceptance to event
UID:e.257.37222
SEQUENCE:3
DTSTAMP:20260422T161236Z
URL:https://greaterstillwaterchamber.com/events/details/speed-dating-for-40-50ish-year-olds-37222
END:VEVENT

END:VCALENDAR
