BEGIN:VCALENDAR
VERSION:2.0
PRODID:-//ChamberMaster//Event Calendar 2.0//EN
METHOD:PUBLISH
X-PUBLISHED-TTL:P3D
REFRESH-INTERVAL:P3D
CALSCALE:GREGORIAN
BEGIN:VEVENT
DTSTART:20200111T150000Z
DTEND:20200111T173000Z
X-MICROSOFT-CDO-ALLDAYEVENT:FALSE
SUMMARY:Soap Making Class
DESCRIPTION:Learn to make all natural soap with John Hanson\, owner of the Longfellow Soap Company. It will be a demonstration class and each student will receive a manual that lists equipment needed\, John's "secret recipe"\, ingredients list with a list of local suppliers\, and instructions for making soap. Each student will receive five full size bars of soap after the class. Class is limited to seven students so sign up soon! Instructor: John Hanson Cost: $30/$25 for co-op owners
X-ALT-DESC;FMTTYPE=text/html:Learn to make all natural soap with John Hanson\, owner of the Longfellow Soap Company. It will be a demonstration class and each student will receive a manual that lists equipment needed\, John&rsquo\;s &ldquo\;secret recipe&rdquo\;\, ingredients list with a list of local suppliers\, and instructions for making soap. Each student will receive five full size bars of soap after the class. Class is limited to seven students so sign up soon! Instructor: John Hanson Cost: $30/$25 for co-op owners
LOCATION:River Market co-op 221 N Main\, St Stillwater\, mn
UID:e.257.30382
SEQUENCE:3
DTSTAMP:20260422T054609Z
URL:https://greaterstillwaterchamber.com/events/details/soap-making-class-30382
END:VEVENT

END:VCALENDAR
