BEGIN:VCALENDAR
VERSION:2.0
PRODID:-//ChamberMaster//Event Calendar 2.0//EN
METHOD:PUBLISH
X-PUBLISHED-TTL:P3D
REFRESH-INTERVAL:P3D
CALSCALE:GREGORIAN
BEGIN:VEVENT
DTSTART:20250223T000000Z
DTEND:20250302T030000Z
X-MICROSOFT-CDO-ALLDAYEVENT:FALSE
SUMMARY:Snowshoe at the Winery!
DESCRIPTION:Snowshoe at the Winery\n\nBack for the 8th year\, this luminary snowshoe at 7 Vines Vineyard is a fan favorite and packed with fun! Live music\, bonfire\, mulled wine\, and BINGO w/prizes all night. Enjoy the vineyard by snowshoe. Other food and wine available for purchase. Snowshoes included or bring your own!\n\n$59/person\n\nNo cancellations or refunds\, plus transfer tickets to friends.\n\n \n\n2025 Dates\n\nFriday and Saturday Nights\n\nFebruary 21 and 22\n\nFebruary 28 and March 1
X-ALT-DESC;FMTTYPE=text/html:<h1>Snowshoe at the Winery</h1>\n\n<p>Back for the 8th year\, this luminary snowshoe at&nbsp\;<a class="x-el x-el-a c1-1l c1-1m c1-87 c1-1o c1-1b c1-1p c1-1q c1-64 c1-b c1-1x c1-1y c1-1z c1-20" href="https://www.7vinesvineyard.com/" rel="noopener" style="box-sizing: border-box\; margin: 0px\; padding: 0px\; border: 0px\; outline: none\; background: no-repeat transparent\; vertical-align: baseline\; font: inherit\; color: rgb(50\, 49\, 48)\; cursor: pointer\; -webkit-font-smoothing: antialiased !important\;" target="_blank">7 Vines Vineyard</a>&nbsp\;is a fan favorite and packed with fun! Live music\, bonfire\, mulled wine\, and BINGO w/prizes all night. Enjoy the vineyard by snowshoe. Other food and wine available for purchase. Snowshoes included or bring your own!</p>\n\n<p>$59/person</p>\n\n<p>No cancellations or refunds\, plus transfer tickets to friends.</p>\n\n<p>&nbsp\;</p>\n\n<p><strong>2025 Dates</strong></p>\n\n<p><strong>Friday and Saturday Nights</strong></p>\n\n<p><strong>February 21 and 22</strong></p>\n\n<p><strong>February 28 and March 1</strong></p>\n
LOCATION:7 Vines Vineyard 101 Hwy 96 East Dellwood MN
UID:e.257.42973
SEQUENCE:3
DTSTAMP:20260422T103012Z
URL:https://greaterstillwaterchamber.com/events/details/snowshoe-at-the-winery-42973
END:VEVENT

END:VCALENDAR
