BEGIN:VCALENDAR
VERSION:2.0
PRODID:-//ChamberMaster//Event Calendar 2.0//EN
METHOD:PUBLISH
X-PUBLISHED-TTL:P3D
REFRESH-INTERVAL:P3D
CALSCALE:GREGORIAN
BEGIN:VEVENT
DTSTART:20231014T160000Z
DTEND:20231014T190000Z
X-MICROSOFT-CDO-ALLDAYEVENT:FALSE
SUMMARY:Smith Artisan Demonstration
DESCRIPTION:Cookbook Author Denis Inmon will be demonstrating recipes from her book "A Place For Everyone". Healthy easy and attainable meals with a gourmet twist. At our table there is A Place For Everyone!
X-ALT-DESC;FMTTYPE=text/html:Cookbook Author Denis Inmon will be demonstrating recipes from her book &ldquo\;A Place For Everyone&rdquo\;. Healthy easy and attainable meals with a gourmet twist. At our table there is A Place For Everyone!
LOCATION:Smith + Trade Mercantile 229 Main St. S. Stillwater\, MN
UID:e.257.36613
SEQUENCE:3
DTSTAMP:20260423T040910Z
URL:https://greaterstillwaterchamber.com/events/details/smith-artisan-demonstration-36613
END:VEVENT

END:VCALENDAR
