BEGIN:VCALENDAR
VERSION:2.0
PRODID:-//ChamberMaster//Event Calendar 2.0//EN
METHOD:PUBLISH
X-PUBLISHED-TTL:P3D
REFRESH-INTERVAL:P3D
CALSCALE:GREGORIAN
BEGIN:VEVENT
DTSTART:20231015T160000Z
DTEND:20231015T200000Z
X-MICROSOFT-CDO-ALLDAYEVENT:FALSE
SUMMARY:Smith Artisan Demonstration
DESCRIPTION:We love our pets! Artisan Danica will be sharing her skills on how she creates her craft of making adorable puppy bandanas. Pick up a colorful bandana or have one custom made. Stop in and meet the Maker. We are pet friendly\, bring your furry friend along for the ride.
X-ALT-DESC;FMTTYPE=text/html:We love our pets! Artisan Danica will be sharing her skills on how she creates her craft of making adorable puppy bandanas. Pick up a colorful bandana or have one custom made. Stop in and meet the Maker. We are pet friendly\, bring your furry friend along for the ride.
LOCATION:Smith + Trade Mercantile 229 Main St. S. Stillwater\, MN
UID:e.257.36614
SEQUENCE:3
DTSTAMP:20260423T041033Z
URL:https://greaterstillwaterchamber.com/events/details/smith-artisan-demonstration-10-15-2023-36614
END:VEVENT

END:VCALENDAR
