BEGIN:VCALENDAR
VERSION:2.0
PRODID:-//ChamberMaster//Event Calendar 2.0//EN
METHOD:PUBLISH
X-PUBLISHED-TTL:P3D
REFRESH-INTERVAL:P3D
CALSCALE:GREGORIAN
BEGIN:VEVENT
DTSTART:20251127T160000Z
DTEND:20251130T220000Z
X-MICROSOFT-CDO-ALLDAYEVENT:FALSE
SUMMARY:Small Business Weekend: Hometown for the Holidays - Stillwater\, MN
DESCRIPTION:Celebrate independent businesses and support local! This weekend will highlight Black/Plaid Friday and Small Business Saturday specials and deals. New events this year!\n\n \n\nSATURDAY\, NOVEMBER 29: SMALL BUSINESS SATURDAY\n\n10 AM   6 PM: Fill the Trolley with Holiday Cheer! Bring a toy and spread joy brighten a child's holiday! Donate new\, unwrapped toys to Community Thread's annual Holiday Hope Program. Bring your toys to the Trolley on Main St. or to any participating business in town.\n\n2   4 PM: Santa roaming the streets and spreading holiday cheer throughout downtown Stillwater.\n\n12   5 PM: Elf Takeover! The elves are out\, feeling jolly\, causing fun\, and loading gifts into the Trolley. Track them down around downtown for your chance to win gift cards for local businesses. New! Free Shop Small Gift Bags find an elf to grab a bag filled with special offers from downtown businesses (one per person\, while supplies last).\n\n3   5 PM: Victorian carolers singing throughout downtown.\n\n----------------------\n\nSUNDAY\, NOVEMBER 30\n\n1   3 PM: Victorian carolers singing throughout downtown.\n\n2   4 PM: Santa roaming the streets and spreading holiday cheer throughout downtown Stillwater.\n\nFor more information visit: CommunityThreadMN.org/Hometown-Holidays/
X-ALT-DESC;FMTTYPE=text/html:<div>Celebrate independent businesses and support local! This weekend will highlight Black/Plaid Friday and Small Business Saturday specials and deals. New events this year!<br />\n&nbsp\;</div>\n\n<div>SATURDAY\, NOVEMBER 29: SMALL BUSINESS SATURDAY<br />\n10 AM &ndash\; 6 PM: Fill the Trolley with Holiday Cheer! Bring a toy and spread joy&mdash\;brighten a child&rsquo\;s holiday! Donate new\, unwrapped toys to Community Thread&rsquo\;s annual Holiday Hope Program. Bring your toys to the Trolley on Main St. or to any participating business in town.</div>\n\n<div>2 &ndash\; 4 PM: Santa roaming the streets and spreading holiday cheer throughout downtown Stillwater.</div>\n\n<div>12 &ndash\; 5 PM: Elf Takeover! The elves are out\, feeling jolly\, causing fun\, and loading gifts into the Trolley. Track them down around downtown for your chance to win gift cards for local businesses. New! Free Shop Small Gift Bags&mdash\;find an elf to grab a bag filled with special offers from downtown businesses (one per person\, while supplies last).</div>\n\n<div>3 &ndash\; 5 PM: Victorian carolers singing throughout downtown.<br />\n----------------------<br />\nSUNDAY\, NOVEMBER 30<br />\n1 &ndash\; 3 PM: Victorian carolers singing throughout downtown.<br />\n2 &ndash\; 4 PM: Santa roaming the streets and spreading holiday cheer throughout downtown Stillwater.</div>\n\n<div>For more information visit: <a class="x1i10hfl xjbqb8w x1ejq31n x18oe1m7 x1sy0etr xstzfhl x972fbf x10w94by x1qhh985 x14e42zd x9f619 x1ypdohk xt0psk2 x3ct3a4 xdj266r x14z9mp xat24cr x1lziwak xexx8yu xyri2b x18d9i69 x1c1uobl x16tdsg8 x1hl2dhg xggy1nq x1a2a7pz xkrqix3 x1sur9pj x1fey0fg x1s688f" href="https://communitythreadmn.org/Hometown-Holidays/?fbclid=IwZXh0bgNhZW0CMTAAc3J0YwZhcHBfaWQQMjIyMDM5MTc4ODIwMDg5MgABHlg6cJrNyH3N9rgxC9kL-IHbN0N6lB7r2rWV8U1AmWB0oBX_0uqcu__ONCEM_aem_eD1oExFJApVq5ghlMrw-pg" rel="nofollow noreferrer" style="color: var(--blue-link)\; cursor: pointer\; text-decoration-line: none\; outline: currentcolor\; border-inline-width: 0px\; margin-inline: 0px\; text-align: inherit\; border-inline-style: none\; padding-inline: 0px\; font-weight: 600\; list-style-type: none\; box-sizing: border-box\; touch-action: manipulation\; background-color: transparent\; display: inline\; padding-bottom: 0px\; border-top-style: none\; border-bottom-width: 0px\; border-bottom-style: none\; border-top-width: 0px\; margin-bottom: 0px\; margin-top: 0px\; padding-top: 0px\; font-family: inherit\;" tabindex="0" target="_blank">CommunityThreadMN.org/Hometown-Holidays/</a></div>\n
LOCATION:Main Street\, Stillwater\, MN 55082
UID:e.257.46626
SEQUENCE:3
DTSTAMP:20260421T215851Z
URL:https://greaterstillwaterchamber.com/events/details/small-business-weekend-hometown-for-the-holidays-stillwater-mn-46626
END:VEVENT

END:VCALENDAR
