BEGIN:VCALENDAR
VERSION:2.0
PRODID:-//ChamberMaster//Event Calendar 2.0//EN
METHOD:PUBLISH
X-PUBLISHED-TTL:P3D
REFRESH-INTERVAL:P3D
CALSCALE:GREGORIAN
BEGIN:VEVENT
DTSTART;VALUE=DATE:20191130
DTEND;VALUE=DATE:20191201
TRANSP:TRANSPARENT
X-MICROSOFT-CDO-ALLDAYEVENT:TRUE
SUMMARY:Small Business Saturday
DESCRIPTION:This Nov 30 is the 10th Small Business Saturday \, which means it's almost time to celebrate with your favorite small businesses!\n\n\n\n Save the date to Shop Small  with us because when you do\, you make a B I G difference for our businesses and our community. Join us in making this Small Business Saturday one to remember!\n\n\n\n As always\, thank you for your continued support   we can't wait to celebrate with you!
X-ALT-DESC;FMTTYPE=text/html:<span style="font-size:18px\;"><span class="_5mfr" style="margin: 0px 1px\; font-family: Helvetica\, Arial\, sans-serif\; color: rgb(29\, 33\, 41)\;"><span class="_6qdm" style="background-repeat: no-repeat\; background-size: contain\; color: transparent\; display: inline-block\; text-shadow: none\; vertical-align: text-bottom\; font-family: inherit\; height: 16px\; width: 16px\; background-image: url(&quot\;https://static.xx.fbcdn.net/images/emoji.php/v9/t49/3/16/1f300.png&quot\;)\;">&#127744\;</span></span><span style="color: rgb(29\, 33\, 41)\; font-family: Helvetica\, Arial\, sans-serif\;">This Nov 30 is the 10th Small Business Saturday&reg\;\, which means it&rsquo\;s almost time to celebrate with your favorite small businesses!</span><br />\n<br style="color: rgb(29\, 33\, 41)\; font-family: Helvetica\, Arial\, sans-serif\; font-size: 14px\;" />\n<span class="_5mfr" style="margin: 0px 1px\; font-family: Helvetica\, Arial\, sans-serif\; color: rgb(29\, 33\, 41)\;"><span class="_6qdm" style="background-repeat: no-repeat\; background-size: contain\; color: transparent\; display: inline-block\; text-shadow: none\; vertical-align: text-bottom\; font-family: inherit\; height: 16px\; width: 16px\; background-image: url(&quot\;https://static.xx.fbcdn.net/images/emoji.php/v9/t9a/3/16/1f5d3.png&quot\;)\;">&#128467\;</span></span><span style="color: rgb(29\, 33\, 41)\; font-family: Helvetica\, Arial\, sans-serif\;">Save the date to Shop Small&reg\; with us because when you do\, you make a B I G difference for our businesses and our community. Join us in making this Small Business Saturday one to remember!</span><br />\n<br style="color: rgb(29\, 33\, 41)\; font-family: Helvetica\, Arial\, sans-serif\; font-size: 14px\;" />\n<span class="_5mfr" style="margin: 0px 1px\; font-family: Helvetica\, Arial\, sans-serif\; color: rgb(29\, 33\, 41)\;"><span class="_6qdm" style="background-repeat: no-repeat\; background-size: contain\; color: transparent\; display: inline-block\; text-shadow: none\; vertical-align: text-bottom\; font-family: inherit\; height: 16px\; width: 16px\; background-image: url(&quot\;https://static.xx.fbcdn.net/images/emoji.php/v9/taa/3/16/1f499.png&quot\;)\;">&#128153\;</span></span><span style="color: rgb(29\, 33\, 41)\; font-family: Helvetica\, Arial\, sans-serif\;">As always\, thank you for your continued support &mdash\; we can&rsquo\;t wait to celebrate with you!</span></span>
LOCATION:SUPPORT Small Businesses on Mainstreet Stillwater\, MN and surrounding communities!
UID:e.257.30036
SEQUENCE:3
DTSTAMP:20260422T073235Z
URL:https://greaterstillwaterchamber.com/events/details/small-business-saturday-30036
END:VEVENT

END:VCALENDAR
