BEGIN:VCALENDAR
VERSION:2.0
PRODID:-//ChamberMaster//Event Calendar 2.0//EN
METHOD:PUBLISH
X-PUBLISHED-TTL:P3D
REFRESH-INTERVAL:P3D
CALSCALE:GREGORIAN
BEGIN:VEVENT
DTSTART:20240606T220000Z
DTEND:20240607T010000Z
X-MICROSOFT-CDO-ALLDAYEVENT:FALSE
SUMMARY:Sir Metalman Customer Community Appreciation
DESCRIPTION:Sir Metalman\, a provider of custom metal signs\, wall graphics\, websites. \n\nWe are so grateful for all our customers.  \n\nWe are having a customer appreciation evening this Thursday in Bayport.\n\nWe will have snacks\, games\, music\, community.\n\n\n\nPLUS we are donating a patriotic wall graphic to the Bayport Legion which we will be installing using our new technology - printing the graphic directly on the wall - fast\, easy\, clean\, eco-friendly.\n\nEmail to RSVP or if you have questions how we can help you with your company Branding. info@sirmetalman.com\n\nSirMetalman.com     Wallpossible.com   MarketDesigned.com
X-ALT-DESC;FMTTYPE=text/html:<p>Sir Metalman\, a provider of custom metal signs\, wall graphics\, websites.&nbsp\;<br />\nWe are so grateful for all our customers.&nbsp\;&nbsp\;<br />\nWe are having a customer appreciation evening this Thursday in Bayport.<br />\nWe will have snacks\, games\, music\, community.<br />\n<br />\nPLUS we are donating a patriotic wall graphic to the Bayport Legion which we will be installing using our new technology - printing the graphic directly on the wall - fast\, easy\, clean\, eco-friendly.<br />\nEmail to RSVP or if you have questions how we can help you with your company Branding. info@sirmetalman.com</p>\n\n<p><a href="http://sirmetalman.com">SirMetalman.com</a>&nbsp\; &nbsp\; &nbsp\;<a href="http://wallpossible.com">Wallpossible.com</a>&nbsp\; &nbsp\;<a href="http://marketdesigned.com">MarketDesigned.com</a></p>\n\n<p>&nbsp\;</p>\n
LOCATION:
UID:e.257.37225
SEQUENCE:3
DTSTAMP:20260422T161204Z
URL:https://greaterstillwaterchamber.com/events/details/sir-metalman-customer-community-appreciation-37225
END:VEVENT

END:VCALENDAR
