BEGIN:VCALENDAR
VERSION:2.0
PRODID:-//ChamberMaster//Event Calendar 2.0//EN
METHOD:PUBLISH
X-PUBLISHED-TTL:P3D
REFRESH-INTERVAL:P3D
CALSCALE:GREGORIAN
BEGIN:VEVENT
DTSTART:20200101T010000Z
DTEND:20200101T030000Z
X-MICROSOFT-CDO-ALLDAYEVENT:FALSE
SUMMARY:Sing In the New Year®
DESCRIPTION:What Are YOU Doing New Years Eve?\n\n \n\n"Sing In the New Year " Returns to the Valley for a Festive Evening of Holiday Hits\, Musical Theater Classics\, and Opera Standards.\n\n\nFeaturing a roster of exciting young professional talent\, this concert is sure to put you in the mood for a festive evening. Come and hear Stillwater natives Jack Swanson\, Clark Weyrauch\, and Friends sing your favorite holiday classics\, show tunes\, and standards at Trinity Lutheran Church\, Stillwater\, Minnesota at 7:00 p.m. on December 31\, 2019.\n\n\n\nAfter the concert\, Ring in the New Year with us at an exclusive after-party\, "Roaring in the 20's"\, at the Water Street Inn starting at 9:00 p.m. Enjoy live music by the 17-piece Red Rock Swing Band\, dancing\, and a champagne toast at midnight. More packages are also available for New Year's Eve at the Water Street Inn.\n\n\n\nPlease go to www.operatunitytheatre.org for more information and to purchase tickets.
X-ALT-DESC;FMTTYPE=text/html:<div style="text-align:center"><span style="font-size:16px"><strong>What Are YOU Doing New Years Eve?</strong></span><br />\n&nbsp\;</div>\n\n<div style="text-align:center"><strong>&ldquo\;Sing In the New Year&reg\;&rdquo\; </strong>Returns to the Valley for a Festive Evening of Holiday Hits\, Musical Theater Classics\, and Opera Standards.</div>\n<br />\nFeaturing a roster of exciting young professional talent\, this concert is sure to put you in the mood for a festive evening. Come and hear Stillwater natives Jack Swanson\, Clark Weyrauch\, and Friends sing your favorite holiday classics\, show tunes\, and standards at Trinity Lutheran Church\, Stillwater\, Minnesota at 7:00 p.m. on December 31\, 2019.<br />\n<br />\nAfter the concert\, Ring in the New Year with us at an exclusive after-party\, <strong>&quot\;Roaring in the 20&#39\;s&quot\;\,</strong> at the Water Street Inn starting at 9:00 p.m. Enjoy live music by the 17-piece Red Rock Swing Band\, dancing\, and a champagne toast at midnight. More packages are also available for New Year&#39\;s Eve at the Water Street Inn.<br />\n<br />\nPlease go to www.operatunitytheatre.org for more information and to purchase tickets.
LOCATION:Concert: Trinity Lutheran Church 115 4th St N Stillwater\, MN 55082 New Year's Eve Party: Water Street Inn 101 Water Street S Stillwater\, MN 55082
UID:e.257.29993
SEQUENCE:3
DTSTAMP:20260422T060704Z
URL:https://greaterstillwaterchamber.com/events/details/sing-in-the-new-year-29993
END:VEVENT

END:VCALENDAR
