BEGIN:VCALENDAR
VERSION:2.0
PRODID:-//ChamberMaster//Event Calendar 2.0//EN
METHOD:PUBLISH
X-PUBLISHED-TTL:P3D
REFRESH-INTERVAL:P3D
CALSCALE:GREGORIAN
BEGIN:VEVENT
DTSTART:20231119T190000Z
DTEND:20231119T210000Z
X-MICROSOFT-CDO-ALLDAYEVENT:FALSE
SUMMARY:Shape Up Your Shoulders Workshop
DESCRIPTION:Do you carry your tension in your shoulders? This workshop is PERFECT for YOU!\n\n\n\nThis workshop focuses on the shoulders and is based on Yoga Tune Up  and the Roll Model Method . You will start with a series of rolling techniques to explore the muscles of your shoulders. You'll spend time using the therapy balls against the wall and on your mat to get into all of the nooks and crannies of your shoulders - areas you can't access without the help of a deep tissue massage.\n\n\n\nThe best way to approach rolling with the therapy balls is to ease into it. Don't force your body to do anything it's not ready for\, or that doesn't feel right. There is no need to turn your shoulders to mush. Instead\, learn to feel\, learn and connect with your body and mind.
X-ALT-DESC;FMTTYPE=text/html:<p>Do you carry your tension in your shoulders? This workshop is PERFECT for YOU!<br />\n<br />\n<span style="font-size:12.0pt">This workshop focuses on the shoulders and is based on Yoga Tune Up&reg\; and the Roll Model Method&reg\;. You will start with a series of rolling techniques to explore the muscles of your shoulders. You&rsquo\;ll spend time using the therapy balls against the wall and on your mat to get into all of the nooks and crannies of your shoulders - areas you can&rsquo\;t access without the help of a deep tissue massage.<br />\n<br />\nThe best way to approach rolling with the therapy balls is to ease into it. Don&#39\;t force your body to do anything it&rsquo\;s not ready for\, or that doesn&rsquo\;t feel right. There is no need to turn your shoulders to mush. Instead\, learn to feel\, learn and connect with your body and mind.</span></p>\n
LOCATION:Mudita Wellness 1903 Greeley St. S. Suite 100 Stillwater\, MN 55082
UID:e.257.36658
SEQUENCE:3
DTSTAMP:20260423T015338Z
URL:https://greaterstillwaterchamber.com/events/details/shape-up-your-shoulders-workshop-36658
END:VEVENT

END:VCALENDAR
