BEGIN:VCALENDAR
VERSION:2.0
PRODID:-//ChamberMaster//Event Calendar 2.0//EN
METHOD:PUBLISH
X-PUBLISHED-TTL:P3D
REFRESH-INTERVAL:P3D
CALSCALE:GREGORIAN
BEGIN:VEVENT
DTSTART:20240921T160000Z
DTEND:20240921T173000Z
X-MICROSOFT-CDO-ALLDAYEVENT:FALSE
SUMMARY:Shannon Bowring in Conversation with Kathleen West
DESCRIPTION:We will be hosting The Road to Dalton author Shannon Bowring in conversation with Kathleen West. Shannon will be discussing her latest novel\, Where the Forest Meets the River. Tickets are $10 and include a $5 coupon to be used at the event.
X-ALT-DESC;FMTTYPE=text/html:We will be hosting The Road to Dalton author Shannon Bowring in conversation with Kathleen West. Shannon will be discussing her latest novel\, Where the Forest Meets the River. Tickets are $10 and include a $5 coupon to be used at the event.
LOCATION:The Lowell Inn 102 2nd Street N Stillwater\, MN 55082
UID:e.257.38644
SEQUENCE:3
DTSTAMP:20260422T192508Z
URL:https://greaterstillwaterchamber.com/events/details/shannon-bowring-in-conversation-with-kathleen-west-38644
END:VEVENT

END:VCALENDAR
